BEGIN:VCALENDAR
VERSION:2.0
PRODID:-//https://faithvictoria.org.au///NONSGML kigkonsult.se iCalcreator 2.10.15//
METHOD:PUBLISH
BEGIN:VEVENT
UID:20260419T143845UTC-5317Xx7gbf@https://faithvictoria.org.au/
DTSTAMP:20260419T143845Z
DESCRIPTION:Australia Religious Response to Climate Change\, Religions for 
 Peace Australia (Victoria and Tasmania)\, URI United Religious Initiatives
  invite you to:\nLiving the Change year 3\nDate: Sunday 6 December 2020&nb
 sp\; &nbsp\; &nbsp\;Time: 3pm to 5:30pmLocation: Online\nJoin us to celebr
 ate LIVING THE CHANGE YEAR 3 together: creating a flourishing world for al
 l. We gather as members of diverse faith communities and those who care fo
 r our planet to share our stories of change\, transformation\, and regener
 ation.&nbsp\;We tap into our deepest values to find the inspiration to add
 ress climate change and support each other in the journey!\nThe link to th
 e online event to be provided by the event organiser.\nProgram:\n\nFun act
 ivities\nSmall group sharing\nFollow up group if wished for\n\nFor booking
 \, click here&nbsp\;| Free for all\nContact: Sue Ennis wcrpaust@iinet.net.
 au https://faithvictoria.org.au/upcoming-events/event/1739-living-the-chan
 ge-australia-religious-response-to-climate-change
DTSTART:20201206T150000Z
DTEND:20201206T173000Z
LOCATION:Melbourne VIC 3000 (Melbourne VIC\, Australia)
SUMMARY:Living the Change: Australia Religious Response to Climate Change
URL:https://faithvictoria.org.au/upcoming-events/event/1739-living-the-chan
 ge-australia-religious-response-to-climate-change
END:VEVENT
BEGIN:VEVENT
UID:20260419T143845UTC-5321XUSKx2@https://faithvictoria.org.au/
DTSTAMP:20260419T143845Z
DESCRIPTION:The Council of Christians and Jews (Vic) Inc invites you to:\nG
 esher Launch | Dr Rachael Kohn AOFollowed by Tackling Hate Speech Program 
 | When Politicians are targeted by Online HateFocussing on the US election
  and the online hate directed towards Australian politicians\nDate: Sunday
  6 December 2020&nbsp\; &nbsp\; &nbsp\; Time: 4pm to 6pmLocation: Online&n
 bsp\;Via Zoom. Click here (Meeting ID: 932 9658 7819 ~ Passcode: 468554)\n
 Guest speaker: Dr Andre Oboler\, CEO\, Online Hate Prevention Institute\nT
 he training update will be presented by Dr Andre Oboler\, CEO of the Onlin
 e Hate Prevention Institute and Honorary Associate of the La Trobe Univers
 ity Law School.&nbsp\;\nThis session is intended for teachers\, community 
 and religious leaders\, and anyone interested in knowing what online hate 
 looks like – especially as it has been manifested during the US elections 
 and against local politicians – and how to prevent it.\nThis will be prece
 ded at 2pm by “B’yah’ad / Lotjbadah / Coming Together” – a celebration of 
 the legacy of William Cooper\, on the date 82 years after he marched to th
 e German Consulate in MelbourneThis will be preceded at 2pm by “B’yah’ad /
  Lotjbadah / Coming Together” – a celebration of the legacy of William Coo
 per\, on the date 82 years after he marched to the German Consulate in Mel
 bourne\nContact:&nbsp\;Liz Parker | 0414 640 384 |&nbsp\;ccjvic@bigpond.ne
 t.au https://faithvictoria.org.au/upcoming-events/event/1741-launch-of-ges
 her-2020-council-of-christians-and-jews-vic
DTSTART:20201206T160000Z
DTEND:20201206T180000Z
LOCATION:Melbourne VIC 3000 (Melbourne VIC\, Australia)
SUMMARY:Launch of Gesher 2020: Council of Christians and Jews (Vic)
URL:https://faithvictoria.org.au/upcoming-events/event/1741-launch-of-geshe
 r-2020-council-of-christians-and-jews-vic
END:VEVENT
BEGIN:VEVENT
UID:20260419T143845UTC-5325OcVbRL@https://faithvictoria.org.au/
DTSTAMP:20260419T143845Z
DESCRIPTION:Council of Christans and Jews invites you to:\nLotjbadhan / B’y
 ah’ad / Coming Together | The William Cooper Legacy Project\nDate: Sunday 
 6 December 2020&nbsp\; &nbsp\; &nbsp\; Time: 2pmLocation: Online\, please 
 click here.&nbsp\;\nA respectful remembrance of the beginning of a dark pe
 riod in world history that brought together two peoples who now walk toget
 her in solidarity.\nOn 6 December 1938\, a delegation from the Australian 
 Aborigines’ League (AAL) led by Yorta Yorta Elder William Cooper\, walked 
 from Footscray to the German Consulate in Melbourne\, to lodge a formal pr
 otest against Nazi persecution of the Jews of Europe.\nSadly\, at this tim
 e of a rise in far-right bigotry across society\, there is new urgency to 
 educate people about basic Human Rights\, role-modelled by the actions of 
 the determined activists of the AAL\, who stood up for others whilst not h
 aving any rights of their own.\nJoin us on the 82nd anniversary as we comm
 emorate this momentous occasion – a time for reflection to hear the story 
 paying tribute to William Cooper along with members of the AAL\, and as we
  Walk Together in solidarity to emulate their values.\nFeaturing an amazin
 g line-up of Australian legends\, including:\n\nKate Ceberano\nLior\nPaul 
 Grabowsky\nDeborah Cheetham and others\n\nMore Information: WilliamCoopers
 Legacy@gmail.com&nbsp\;| Bookings:&nbsp\;https://events.humanitix.com/will
 iam-cooper-legacy https://faithvictoria.org.au/upcoming-events/event/1742-
 yorta-yorta-hebrew-coming-together-council-of-christians-and-jews
DTSTART:20201206T140000Z
DTEND:20201206T160000Z
LOCATION:Melbourne VIC 3000 (Melbourne VIC\, Australia)
SUMMARY:Yorta Yorta / Hebrew Coming Together: Council of Christians and Jew
 s
URL:https://faithvictoria.org.au/upcoming-events/event/1742-yorta-yorta-heb
 rew-coming-together-council-of-christians-and-jews
END:VEVENT
END:VCALENDAR
