BEGIN:VCALENDAR
VERSION:2.0
PRODID:-//https://faithvictoria.org.au///NONSGML kigkonsult.se iCalcreator 2.10.15//
METHOD:PUBLISH
BEGIN:VEVENT
UID:20260420T040159UTC-1843UlfxoG@https://faithvictoria.org.au/
DTSTAMP:20260420T040159Z
DESCRIPTION:Victorian Council of Churches invites you to:\nHolding the Ligh
 t | An Ecumenical ServiceRemembering victims and survivors of family domes
 tic violence\nDate: Sunday 29 November 2020&nbsp\; &nbsp\; &nbsp\; Time: 2
 :30pmLocation: St Peter's Eastern Hill\, 15 Gisborne Street\, East Melbour
 ne VIC 3002\nDue to Covid-19 restrictions\, the numbers allowed to gather 
 in person may be restricted\, so please register your interest with TryBoo
 king\, and we will let you know more details nearer the time.&nbsp\;\nRegi
 ster by clicking here.&nbsp\;\nThe event will be livestreamed and recorded
  on St Peter's&nbsp\;Facebook page&nbsp\;and YouTube&nbsp\;channel. https:
 //faithvictoria.org.au/upcoming-events/event/1738-holding-the-light-victor
 ian-council-of-churches
DTSTART:20201129T143000Z
DTEND:20201129T160000Z
LOCATION:St Peter's Eastern Hill\, East Melbourne\, 15 Gisborne Street\, Ea
 st Melbourne VIC 3002 (15 Gisborne St\, East Melbourne VIC 3002\, Australi
 a)
SUMMARY:Holding the light: Victorian Council of Churches
URL:https://faithvictoria.org.au/upcoming-events/event/1738-holding-the-lig
 ht-victorian-council-of-churches
END:VEVENT
END:VCALENDAR
