BEGIN:VCALENDAR
VERSION:2.0
PRODID:-//https://faithvictoria.org.au///NONSGML kigkonsult.se iCalcreator 2.10.15//
METHOD:PUBLISH
BEGIN:VEVENT
UID:20260424T204412UTC-7025zJJlt5@https://faithvictoria.org.au/
DTSTAMP:20260424T204412Z
DESCRIPTION:Ascension of Baha'ullahThursday 27 November 2025Faith: Baha'i\n
 Baha’is observe the anniversary of the death in exile of Baha’u’llah\, the
  founder of the Baha’i faith\, on May 29\, 1892\, outside Akko (now northe
 rn Israel). https://faithvictoria.org.au/upcoming-events/event/2253-ascens
 ion-of-bahaullah-bahai
DTSTART;VALUE=DATE:20251127
LOCATION:RSEvents!Pro Location (Colorado\, USA)
SUMMARY:Ascension of Baha'ullah | Baha'i
URL:https://faithvictoria.org.au/upcoming-events/event/2253-ascension-of-ba
 haullah-bahai
END:VEVENT
END:VCALENDAR
