BEGIN:VCALENDAR
VERSION:2.0
PRODID:-//https://faithvictoria.org.au///NONSGML kigkonsult.se iCalcreator 2.10.15//
METHOD:PUBLISH
BEGIN:VEVENT
UID:20260423T190802UTC-0592tssH8t@https://faithvictoria.org.au/
DTSTAMP:20260423T190802Z
DESCRIPTION:Ascension of Abdu'l-BahaFriday 27 November 2024Religion: Baha'i
 \nCommemorates the passing of Abdu'l-Baha in 1921 in Haifa. Abdu'l-Baha wa
 s the eldest son of Baha'u'llah\, the prophet-founder of the Baha'i faith\
 , and named the leader of the Baha'i community in his father's will.\n&nbs
 p\; https://faithvictoria.org.au/upcoming-events/event/2027-ascension-of-a
 bdul-baha-bahai
DTSTART;VALUE=DATE:20241127
LOCATION:RSEvents!Pro Location (Colorado\, USA)
SUMMARY:Ascension of Abdu'l-Baha | Baha'i
URL:https://faithvictoria.org.au/upcoming-events/event/2027-ascension-of-ab
 dul-baha-bahai
END:VEVENT
END:VCALENDAR
