BEGIN:VCALENDAR
VERSION:2.0
PRODID:-//https://faithvictoria.org.au///NONSGML kigkonsult.se iCalcreator 2.10.15//
METHOD:PUBLISH
BEGIN:VEVENT
UID:20260425T011642UTC-8535LViGW5@https://faithvictoria.org.au/
DTSTAMP:20260425T011642Z
DESCRIPTION:he Ecumenical Interfaith Commission invites you to:\nRed Wednes
 day | Ecumenical and Interfaith gathering\nDate: Wednesday 27 November 201
 9&nbsp\; &nbsp\; &nbsp\; Time: 7:30pmLocation: St Patrick's Cathedral\, Ea
 st Melbourne VIC 3002\nThis is an invitation to stand&nbsp\;in solidarity 
 with people from all around our world who are persecuted for their faith b
 eliefs. Catholic leaders\, Leaders of major faiths and other Christian den
 ominations will lead this gathering as we remember the millions of people 
 around the world today who are persecuted for their peacefully held religi
 ous beliefs.\nAt the end of the gathering\, the Cathedral will be flood-li
 t in red as a mark of solidarity.\nAll welcome\nRSVP: justice@cam.org.au&n
 bsp\;(by Friday 22 November for catering purposes)\n&nbsp\; https://faithv
 ictoria.org.au/upcoming-events/event/1657-red-wednesday-ecumenical-interfa
 ith-commission
DTSTART:20191127T193000Z
DTEND:20191127T210000Z
LOCATION:St Patrick's Cathedral\, East Melbourne VIC 3002 (1 Cathedral Pl\,
  East Melbourne VIC 3002\, Australia)
SUMMARY:Red Wednesday: Ecumenical Interfaith Commission
URL:https://faithvictoria.org.au/upcoming-events/event/1657-red-wednesday-e
 cumenical-interfaith-commission
END:VEVENT
END:VCALENDAR
