BEGIN:VCALENDAR
VERSION:2.0
PRODID:-//https://faithvictoria.org.au///NONSGML kigkonsult.se iCalcreator 2.10.15//
METHOD:PUBLISH
BEGIN:VEVENT
UID:20260420T093016UTC-7592IdLZ7t@https://faithvictoria.org.au/
DTSTAMP:20260420T093016Z
DESCRIPTION:Banyule Interfaith Network invites you to:\nOur Shared Moral Ch
 allenge | The Climate Emergency\nDate: Thursday 26 November 2020&nbsp\; &n
 bsp\; &nbsp\; Time: 7:30pm to 8:45pmLocation: Online (zoom link will be se
 nt upon registration)\nAn online Zoom session sponsored by Mary Mother of 
 the Church Parish Climate Action Group. The session will feature two speak
 ers addressing the current climate and ecological emergency and how they h
 ave responded in their own lives to this crisis.&nbsp\; There will be ques
 tion and discussion time.\nRegister your attendance by emailing:&nbsp\;iva
 nhoe@cam.org.au\nTell us the number attending.&nbsp\; A zoom link will be 
 emailed to you.&nbsp\;\nSpeakers:\n\nMark Delaney is the author of ‘Low Ca
 rbon and Loving It’ (with his son\, Tom) and is a Christian climate activi
 st who has been featured in the media for his work\, including ABC’s Compa
 ss programme\, ‘For the Love of Creation’\, 5 April\, 2020.&nbsp\;&nbsp\;
 \nAlice Carwardine experienced her ecological conversion after reading Pop
 e Francis’ encyclical letter Laudato Si.&nbsp\; After giving up 40 things 
 in Lent 2018\, she now leads a zero-waste sustainable lifestyle. She runs 
 workshops for Catholic parishes and schools to help them on their own ecol
 ogical journey.&nbsp\;&nbsp\;&nbsp\;\n https://faithvictoria.org.au/upcomi
 ng-events/event/1735-the-climate-emergency-banyule-interfaith-network
DTSTART:20201126T193000Z
DTEND:20201126T204500Z
LOCATION:Melbourne VIC 3000 (Melbourne VIC\, Australia)
SUMMARY:The Climate Emergency: Banyule Interfaith Network
URL:https://faithvictoria.org.au/upcoming-events/event/1735-the-climate-eme
 rgency-banyule-interfaith-network
END:VEVENT
END:VCALENDAR
