BEGIN:VCALENDAR
VERSION:2.0
PRODID:-//https://faithvictoria.org.au///NONSGML kigkonsult.se iCalcreator 2.10.15//
METHOD:PUBLISH
BEGIN:VEVENT
UID:20260425T001147UTC-2665bNH73g@https://faithvictoria.org.au/
DTSTAMP:20260425T001147Z
DESCRIPTION:Kingston Interfaith Network invites you to:\nDate: Tuesday 26 N
 ovember 2019&nbsp\; &nbsp\; &nbsp\;Time: 6pm to 8pmLocation:&nbsp\;Kingsto
 n City Hall\,&nbsp\;979-985 Nepean Highway\,&nbsp\;Moorabbin\, VIC 3189\nK
 ingston Council and Kingston Interfaith Network Committee will host a pane
 l discussion on the role of faith organisations in preventing family viole
 nce. Guest speakers include Dr Ree Boddé from Think Prevent and Councillor
  Sandra Mayer (former Mayor\, Frankston City Council) who will also share 
 her inspiring story through a live music performance. The event is free bu
 t guests are encouraged to bring a gift card as a donation for the victims
  of family violence living in crisis accommodation (in support of Emerge).
 \nThe panel will include:\n\nPaula Westhead\, executive officer Emerge Wom
 en &amp\; Children’s Support Network\nDr Ree Boddé\, Think Prevent\nPudak 
 Nayati\, Indonesian Muslim Community of Victoria\nCr Sandra Mayer\, former
  mayor\, Frankston City Council\nInterfaith Committee members\n\nA buffet 
 dinner will follow the discussion. The event is free\, but guests are enco
 uraged to bring a gift card donation to the victims of family violence liv
 ing in crisis accommodation in Kingston. The cards and vouchers will be co
 llected during the event and donated to Emerge to support women and childr
 en. Emerge may use some of the donations as Christmas presents.\nRSVP: 15 
 November 2019Contact: Elisabetta Robecchi or Amy Wallis | (03) 9581 4783To
  book\, click here.&nbsp\; https://faithvictoria.org.au/upcoming-events/ev
 ent/1644-interfaith-panel-discussion-and-dinner-to-prevent-family-violence
 -kingston-interfaith-network
DTSTART:20191126T180000Z
DTEND:20191126T200000Z
LOCATION:Kingston City Hall\, 979-985 Nepean Highway\, Moorabbin VIC 3189 (
 Kingston City Hall\, 979-985 Nepean Highway\, Moorabbin VIC 3189)
SUMMARY:Interfaith Panel Discussion and Dinner to Prevent Family Violence: 
 Kingston Interfaith Network
URL:https://faithvictoria.org.au/upcoming-events/event/1644-interfaith-pane
 l-discussion-and-dinner-to-prevent-family-violence-kingston-interfaith-net
 work
END:VEVENT
END:VCALENDAR
