BEGIN:VCALENDAR
VERSION:2.0
PRODID:-//https://faithvictoria.org.au///NONSGML kigkonsult.se iCalcreator 2.10.15//
METHOD:PUBLISH
BEGIN:VEVENT
UID:20260424T190846UTC-88966zLc6p@https://faithvictoria.org.au/
DTSTAMP:20260424T190846Z
DESCRIPTION:Birth of Baha'u'llahTuesday 25 November 2025Religion: Baha'i\nT
 he Day of the Covenant is the agreement between the faith's founder\, Baha
 ʼu'llah\, and his followers\, regarding the succession of leadership and t
 he maintenance of unity. It commemorates Bahaʼu'llah’s appointment of his 
 eldest son\, Abdu’l-Baha\, as the leader of the Baha'i community after his
  passing. https://faithvictoria.org.au/upcoming-events/event/2252-day-of-t
 he-covenant-bahai
DTSTART;VALUE=DATE:20251125
LOCATION:RSEvents!Pro Location (Colorado\, USA)
SUMMARY:Day of the Covenant | Baha'i
URL:https://faithvictoria.org.au/upcoming-events/event/2252-day-of-the-cove
 nant-bahai
END:VEVENT
END:VCALENDAR
