BEGIN:VCALENDAR
VERSION:2.0
PRODID:-//https://faithvictoria.org.au///NONSGML kigkonsult.se iCalcreator 2.10.15//
METHOD:PUBLISH
BEGIN:VEVENT
UID:20260423T153629UTC-3349eNtGox@https://faithvictoria.org.au/
DTSTAMP:20260423T153629Z
DESCRIPTION:Birth of Baha'u'llahMonday 25 November 2024Religion: Baha'i\nTh
 e Day of the Covenant is the agreement between the faith's founder\, Bahaʼ
 u'llah\, and his followers\, regarding the succession of leadership and th
 e maintenance of unity. It commemorates Bahaʼu'llah’s appointment of his e
 ldest son\, Abdu’l-Baha\, as the leader of the Baha'i community after his 
 passing. https://faithvictoria.org.au/upcoming-events/event/2028-day-of-th
 e-covenant-bahai
DTSTART;VALUE=DATE:20241125
LOCATION:RSEvents!Pro Location (Colorado\, USA)
SUMMARY:Day of the Covenant | Baha'i
URL:https://faithvictoria.org.au/upcoming-events/event/2028-day-of-the-cove
 nant-bahai
END:VEVENT
END:VCALENDAR
