BEGIN:VCALENDAR
VERSION:2.0
PRODID:-//https://faithvictoria.org.au///NONSGML kigkonsult.se iCalcreator 2.10.15//
METHOD:PUBLISH
BEGIN:VEVENT
UID:20260420T093116UTC-7910oHbRam@https://faithvictoria.org.au/
DTSTAMP:20260420T093116Z
DESCRIPTION:The Faith Communities Council of Victoria invites you to:\nFait
 h Communities Promoting Healthy Relationships\nDate: Wednesday 25 November
  2020&nbsp\; &nbsp\; &nbsp\;Time: 2pm to 3:30pmLocation: Online (Zoom)\nA 
 Q &amp\; A forum on the challenges and successes in building the preventio
 n and response capacity of faith leaders and their communities.\nAbout thi
 s EventFaith leaders play an influential role in shaping attitudes and beh
 aviours amongst their faith communities and therefore are in a unique posi
 tion to prevent violence against women.\nJoin our panel of experts as they
  discuss their challenges and successes in building the prevention and res
 ponse capacity of faith leaders and their communities.\n\nDr Cathy Vaughan
 \, Melbourne University\nRobyn Andréo-Boosey\, Anglican Diocese of Melbour
 ne\nAnu Krishnan\, Kulturbrille &amp\; Faith Communities Council of Victor
 ia\nModerator: Monisha Sandhu\, Multicultural Centre for Women’s Health\n
 \nFree Registration: https://faith-safe.eventbrite.com.au\nPlease Note: On
 ce you register\, you will be emailed the Zoom location.For flyer\, please
  click here.&nbsp\;\nFurther Information:\nFor more information please con
 tact Mr Sandy Kouroupidis\, Multifaith Officer\, Faith Communities Council
  of Victoria\, Mobile: 0412 670 369 | Email: officer@faithvictoria.org.au
 \nThis event is hosted by the Faith Communities Council of Victoria in par
 tnership with Melton City Council\, Religions for Peace Australia\, Multic
 ultural Centre for Women's Health and the Victorian State Government - Dep
 artment of Premier and Cabinet.\n https://faithvictoria.org.au/upcoming-ev
 ents/event/1718-faith-communities-promoting-healthy-relationships-faith-co
 mmunities-council-of-victoria
DTSTART:20201125T140000Z
DTEND:20201125T153000Z
LOCATION:Melbourne VIC 3000 (Melbourne VIC\, Australia)
SUMMARY:Faith Communities Promoting Healthy Relationships: Faith Communitie
 s Council of Victoria
URL:https://faithvictoria.org.au/upcoming-events/event/1718-faith-communiti
 es-promoting-healthy-relationships-faith-communities-council-of-victoria
END:VEVENT
END:VCALENDAR
