BEGIN:VCALENDAR
VERSION:2.0
PRODID:-//https://faithvictoria.org.au///NONSGML kigkonsult.se iCalcreator 2.10.15//
METHOD:PUBLISH
BEGIN:VEVENT
UID:20260424T224954UTC-7035penIVK@https://faithvictoria.org.au/
DTSTAMP:20260424T224954Z
DESCRIPTION:Twelve leading Jewish organisations invite you to:\nAnnual Walk
  Against Family Violence\nDate: Sunday 25 November 2019&nbsp\; &nbsp\; &nb
 sp\;Time: 12pmLocation:&nbsp\;Federation Square\, Melbourne VIC 3000\nTwel
 ve leading Jewish organisations will come together on Monday to support th
 e annual Walk Against Family Violence and send a clear message that the Vi
 ctorian Jewish community stands united in saying ‘No’ to family violence.
 \nJewish Care Victoria\, the Jewish Community Council of Victoria\, the Ra
 bbinical Council of Victoria\, the National Council of Jewish Women of Aus
 tralia (Victoria)\, Tzedek\, Unchain My Heart\, Maccabi Victoria\, Pathway
 s Melbourne\, Progressive Judaism Victoria\, Impact\, the Australasian Uni
 on of Jewish Students and the Australian Jewish News will participate.\nNo
 w in its 11th&nbsp\;year\, the Walk Against Family Violence is held in sup
 port of the International Day for the Elimination of Violence Against Wome
 n and aims to raise awareness of the impact of family violence on the comm
 unity\, and remember those who have lost their lives.\nSpeeches will comme
 nce from 12:00pm followed by the Walk from Federation Square into the CBD.
  The theme colour for the Walk is orange and all ages\, abilities\, gender
 s and fitness levels are welcome.\nAll members of the Victorian Jewish com
 munity are encouraged to join the Walk Against Family Violence. Look for o
 ur joint banner at Federation Square from 12:00pm. https://faithvictoria.o
 rg.au/upcoming-events/event/1658-the-victorian-jewish-community-says-no-to
 -family-violence
DTSTART:20191125T120000Z
DTEND:20191125T150000Z
LOCATION:Federation Square\, Melbourne VIC 3000 (Swanston St & Flinders St\
 , Melbourne VIC 3000\, Australia)
SUMMARY:The Victorian Jewish Community Says NO To Family Violence: 
URL:https://faithvictoria.org.au/upcoming-events/event/1658-the-victorian-j
 ewish-community-says-no-to-family-violence
END:VEVENT
END:VCALENDAR
