BEGIN:VCALENDAR
VERSION:2.0
PRODID:-//https://faithvictoria.org.au///NONSGML kigkonsult.se iCalcreator 2.10.15//
METHOD:PUBLISH
BEGIN:VEVENT
UID:20260424T212824UTC-3027r7SGuX@https://faithvictoria.org.au/
DTSTAMP:20260424T212824Z
DESCRIPTION:The Jewish Christian Muslim Association of Australia (JCMA) inv
 ites you to:\nJCMA Friendship Walk 201\nDate:&nbsp\;Sunday 24&nbsp\;Novemb
 er 2019&nbsp\; &nbsp\; &nbsp\; &nbsp\;Time:&nbsp\;1:15pm to 5:00pmLocation
 :&nbsp\;Starting point: Australian Albanian Islamic Society - 765 Drummond
  Street\, Carlton North [google maps:&nbsp\;http://bit.ly/1KbPHwz]\nCome a
 long and spend an afternoon walking together in friendship and goodwill be
 tween a mosque\, synagogue and a church.\nStarting at the Albanian Austral
 ian Islamic Society Mosque in Carlton North we will walk together to the C
 hurch of All Nations\, followed by the East Melbourne Hebrew Congregation 
 Synagogue\, then across to St Peters Eastern Hill Anglican Church Communit
 y Hall where tea and refreshments will be provided.&nbsp\;\nMeeting Place 
 &amp\; Planned Walking Route\n\n&nbsp\;1.15pm - Albanian Australian Islami
 c Society Mosque | Please arrive for registration and 1:30pm start ||&nbsp
 \;765 Drummond St.\, Carlton North VIC 3054\, google maps&nbsp\;http://bit
 .ly/1KbPHwz\n&nbsp\;2.30pm - Church of All Nations | 180 Palmerston St.\, 
 Carlton VIC 3053\, goole maps&nbsp\;https://goo.gl/MmcnXC\n&nbsp\;3:40pm -
  East Melbourne Hebrew Congregation Synagogue |&nbsp\;488 Albert street\, 
 East Melbourne\, google maps:&nbsp\;http://bit.ly/2delE0D\n&nbsp\;4:10pm –
  St Peters Eastern Hill Anglican Church Community Hall |15 Gisborne Street
  (corner of Albert Street) East Melbourne\, google maps:&nbsp\;http://bit.
 ly/1O4w0xEJoin us for tea and refreshments at the Community Hall.\n\nVisit
 : “Walking Maps” webpage: https://walkingmaps.com.au/walk/4372 (Map of the
  planned walking route)\nRSVP\, Registration and Information\nTo register 
 go to Eventbrite:&nbsp\;https://jcmafw19.eventbrite.com.au&nbsp\;More info
 rmation:&nbsp\;Ginette Everest | (03) 9287 5590 | 0400 211 221&nbsp\;|&nbs
 p\;executiveofficer@jcma.org.au https://faithvictoria.org.au/upcoming-even
 ts/event/1638-jcma-friendship-walk-2019-jewish-christian-muslim-associatio
 n-of-australia
DTSTART:20191124T131500Z
DTEND:20191124T170000Z
LOCATION:Australian Albanian Islamic Society - 765 Drummond Street\, Carlto
 n North 3054 (765 Drummond St\, Carlton North VIC 3054\, Australia)
SUMMARY:JCMA Friendship Walk 2019: Jewish Christian Muslim Association of A
 ustralia
URL:https://faithvictoria.org.au/upcoming-events/event/1638-jcma-friendship
 -walk-2019-jewish-christian-muslim-association-of-australia
END:VEVENT
BEGIN:VEVENT
UID:20260424T212824UTC-30495h0G3B@https://faithvictoria.org.au/
DTSTAMP:20260424T212824Z
DESCRIPTION:St Kilda Hebrew Congregation invites you to:\nSing as One | Mul
 tifaith social music initiative\nDate: Sunday 24 November 2019&nbsp\; &nbs
 p\; &nbsp\;Time: 7:45pm for 8pm startLocation:&nbsp\;St Kilda Shule\, 12 C
 harnwood Grove\, St Kilda VIC 3182\nSocial media has been used to cause so
  much hatred and division.\nImagine: Using social media for love\, unity\,
  friendship and togetherness\nImagine: 1000 people who have never met\, si
 nging one song in unison\nMany voices. One message.\nThe Power of Imaginat
 ion: St Kilda Shule invites you to a multi-faith social music initiative.&
 nbsp\;Just under 1000 places exist and are likely to sell out very quickly
 .\nThis is a wonderful opportunity for people across many faiths to sing t
 ogether in unity\, friendship and togetherness.\nCost: $25 | For tickets c
 lick&nbsp\;here&nbsp\;\nAttendees\, who ideally will have a passion for si
 nging\, are invited to come in traditional faith clothing. Attendees will 
 be divided into one of three vocal parts and will go to one of three venue
 s at St Kilda Shule to learn their vocal part with over 300 others in that
  part. After 45 minutes - 1 hour\, all three groups will combine to sing i
 n harmony in one large space for the live production (together with some b
 rief welcome speeches by faith leaders) which will take up to 1 hour and w
 ill be filmed and uploaded to the internet.\nSee examples of the power of 
 social singing by clicking here and here.&nbsp\;\n&nbsp\; https://faithvic
 toria.org.au/upcoming-events/event/1649-sing-as-one-st-kilda-schule
DTSTART:20191124T194500Z
DTEND:20191124T210000Z
LOCATION:St Kilda Shule\, 12 Charnwood Grove\, St Kilda VIC 3182 (12 Charnw
 ood Grove\, St Kilda VIC 3182 Australia)
SUMMARY:Sing as One: St Kilda Schule
URL:https://faithvictoria.org.au/upcoming-events/event/1649-sing-as-one-st-
 kilda-schule
END:VEVENT
END:VCALENDAR
