BEGIN:VCALENDAR
VERSION:2.0
PRODID:-//https://faithvictoria.org.au///NONSGML kigkonsult.se iCalcreator 2.10.15//
METHOD:PUBLISH
BEGIN:VEVENT
UID:20260424T165158UTC-4472ErKJ35@https://faithvictoria.org.au/
DTSTAMP:20260424T165158Z
DESCRIPTION:The Casey Multi-Faith Network invites you to:\nDomestic Violenc
 e Forum\nDate: Thursday 21 November 2019&nbsp\; &nbsp\; &nbsp\;Time: 7pmLo
 cation: Bunjil Place\, Magid Drive\, Narre Warren VIC 3805\nCasey Multi-fa
 ith are holding a forum on domestic violence from a faith perspective\, wi
 th leaders from the Islamic\, Christian\, Hindu and Sikh Faith.&nbsp\;This
  will be a interesting\, thought provoking and learning experience!&nbsp\;
 You will also have a chance to ask our guest speakers questions.\nRefreshm
 ents will be served.\nContact: caseymultifaith@gmail.com&nbsp\;| 0419 367 
 583 and 0418 566 714 https://faithvictoria.org.au/upcoming-events/event/16
 53-domestic-violence-forum-casey-multi-faith-network
DTSTART:20191121T190000Z
DTEND:20191121T210000Z
LOCATION:Bunjil Place\, Magid Drive\, Narre Warren VIC 3805 (Magid Drive\, 
 Narre Warren VIC 3805 Australia)
SUMMARY:Domestic Violence Forum: Casey Multi-Faith Network
URL:https://faithvictoria.org.au/upcoming-events/event/1653-domestic-violen
 ce-forum-casey-multi-faith-network
END:VEVENT
END:VCALENDAR
