BEGIN:VCALENDAR
VERSION:2.0
PRODID:-//https://faithvictoria.org.au///NONSGML kigkonsult.se iCalcreator 2.10.15//
METHOD:PUBLISH
BEGIN:VEVENT
UID:20260419T185703UTC-7963NLLUMh@https://faithvictoria.org.au/
DTSTAMP:20260419T185703Z
DESCRIPTION:Hobsons Bay Interfaith Network invites you to:\nRecognise\, Res
 pond and Refer - the 3Rs of Family Violvence\nDate:&nbsp\;Tuesday 17 Novem
 ber 2020&nbsp\; &nbsp\; Time:&nbsp\;9:30am to 12:30pmLocation: Online\nAre
  you a leader\, committee member or organiser within your faith community?
  Does your faith community come to you in times of crisis?\nThen you have 
 a very important role in supporting your faith community members to be saf
 e and receive the support they need at times of crisis.\nRecognise\, Respo
 nd and Refer – the 3Rs of Family Violence.\nLearn how to recognise the sig
 ns of family violence\, respond appropriately and make referrals to specia
 list services. Attend one of the workshops below\, to learn the skills to 
 support your faith families and communities at times of crisis. Workshop d
 elivered by EDVOS - specialist Family Violence service.\nCost: Free | Regi
 ster here\nFor more infomation\, contact: (03) 9932 1638&nbsp\;\nBrought t
 o you by the Building Equality and Respect Project – a Western Interfaith 
 Network Collaboration. https://faithvictoria.org.au/upcoming-events/event/
 1733-recognise-respond-and-refer-hobsons-bay-interfaith-network
DTSTART:20201117T093000Z
DTEND:20201117T123000Z
LOCATION:Melbourne VIC 3000 (Melbourne VIC\, Australia)
SUMMARY:Recognise\, Respond and Refer: Hobsons Bay Interfaith Network
URL:https://faithvictoria.org.au/upcoming-events/event/1733-recognise-respo
 nd-and-refer-hobsons-bay-interfaith-network
END:VEVENT
END:VCALENDAR
