BEGIN:VCALENDAR
VERSION:2.0
PRODID:-//https://faithvictoria.org.au///NONSGML kigkonsult.se iCalcreator 2.10.15//
METHOD:PUBLISH
BEGIN:VEVENT
UID:20260424T085003UTC-4791zE2X46@https://faithvictoria.org.au/
DTSTAMP:20260424T085003Z
DESCRIPTION:The Faith Communities Council of Victoria invites you to:\nChil
 d Safe Standards and the Reportable Conduct Scheme An Information session 
 for religious and faith-based organisations | Victorian Interfaith Network
 s Conferece 2019\nDate: Sunday 17 November 2019&nbsp\; &nbsp\; &nbsp\; Tim
 e: 2:20pm to 3:50pmLocation:&nbsp\;Springvale City Hall\, 397-405 Springva
 le Road Springvale\, VIC 3171\nCost: Free | To register\, click here\nFrom
  1 January 2017\, religious and faith-based organisations that provide ser
 vices for children are required to comply with&nbsp\;Child Safe Standards.
  These standards aim to drive cultural change in organisations so that pro
 tecting children from abuse is embedded in everyday thinking and practice.
  The standards are compulsory but not prescriptive. This allows religious 
 organisations flexibility in how they implement the standards to meet the 
 requirements.\nFrom 1 January 2018\, religious and faith-based organisatio
 ns are required to comply with the&nbsp\;Reportable Conduct Scheme&nbsp\;a
 nd respond to allegations of reportable conduct\, and misconduct that may 
 include reportable conduct\, made against their workers and volunteers\, b
 y investigating those allegations and reporting to the Commission for Chil
 dren and Young People.\nIf you are part of a religious and faith-based org
 anisation that is required by law to be compliant with Child Safe Standard
 s and the Reportable Conduct Scheme\, this is an information session to su
 pport your knowledge and implementation. We all have an obligation to do t
 he best we can to keep children safe from harm and abuse.\nThe workshop wi
 ll include an interactive style discussion on practical case studies to il
 lustrate the application of the Scheme.\nFacilitator:&nbsp\;Emily Sanders\
 , Director Regulation |&nbsp\;Commission for Children and Young People\nTh
 e Commission for Children and Young People is an independent statutory bod
 y that promotes improvement in policies and practices affecting the safety
  and wellbeing of Victorian children and young people. We have a particula
 r focus on vulnerable children and young people. For more information see:
  www.ccyp.vic.gov.au&nbsp\; https://faithvictoria.org.au/upcoming-events/e
 vent/1621-child-safe-standards-and-the-reportable-conduct-scheme-victorian
 -interfaith-networks-conference-2019
DTSTART:20191117T142000Z
DTEND:20191117T155000Z
LOCATION:Springvale City Hall\, 397-405 Springvale Road  Springvale\, VIC 3
 171 (405 Springvale Rd\, Springvale VIC 3171\, Australia)
SUMMARY:Child Safe Standards and the Reportable Conduct Scheme: Victorian I
 nterfaith Networks Conference 2019
URL:https://faithvictoria.org.au/upcoming-events/event/1621-child-safe-stan
 dards-and-the-reportable-conduct-scheme-victorian-interfaith-networks-conf
 erence-2019
END:VEVENT
BEGIN:VEVENT
UID:20260424T085003UTC-4798XanRRi@https://faithvictoria.org.au/
DTSTAMP:20260424T085003Z
DESCRIPTION:\nThe Faith Communities Council of Victoria\, in partnership wi
 th the Interfaith Network of the City of Greater Dandenong and The City of
  Greater Dandenong\, would like to invite you to the 2019 Victorian Interf
 aith Networks Conference on Sunday\, November 17th 2019 @ Springvale City 
 Hall. To register for the event go to vinc.eventbrite.com.au and click on 
 the green Register button.\nThe conference is also an opportunity for the 
 Interfaith Network of the City of Greater Dandenong to celebrate and mark 
 30 years of interfaith engagement within the local community and beyond.\n
 Springvale City Hall: 397-405 Springvale Road\, Springvale (Mel Ref 80 A11
 )\nAbout the Conference:\nThe Victorian Interfaith Networks Conference (VI
 NC) is a grass-roots conference which aims to help build the capacity and 
 sustainability of existing multifaith/interfaith networks\, bring people u
 p-to-date with current multifaith/interfaith matters and provide networkin
 g opportunities.\nDate: Sunday\, November 17th 2019 &nbsp\;&nbsp\;Time: 12
 :00pm - 4:30pm\nLocation:&nbsp\;Springvale City Hall&nbsp\;397-405 Springv
 ale Road\, Springvale (Mel Ref 80 A11) (see Google Maps location)\nFlyer:&
 nbsp\;click here to view flyer\nSchedule:\n\n12:00pm-1:25pm: Registration\
 , networking\, lunch and activities\n1:30pm-2:15pm: Honoured guests and ke
 ynote speech on:\n\n\n&nbsp\;My faith and Refugee Journeyby Fablice Manira
 kiza\nChild soldier in war-torn Burundi andcurrent advocate for migrant an
 d refugee communities\n\n2:20pm-3:50pm: Workshops (see below)\n4:00pm-4:30
 pm: 'Performing Arts &amp\; Faith' workshop performance\, summary &amp\; c
 losing ceremony\n\nBooklet: click here for program booklet\nWorkshops:\nEn
 rolment for workshops and plenary sessions to be made on the day of event 
 so please arrive early to enrol in your preferred workshop.\n\nWorkshop 1:
  Refugees and asylum seekers: A Celebration of Courage and Achievements\nW
 orkshop 2:&nbsp\;Voices of Youth: My Faith\, My Generation\nWorkshop 3: Pe
 rforming Arts and Faith: a hands on experience!\nWorkshop 4:&nbsp\;Child S
 afe Standards and the Reportable Conduct Scheme\n\nClick here for more inf
 ormation on workshops\nRegistration:To register for the event go to&nbsp\;
 vinc.eventbrite.com.au&nbsp\;and click on the green Register button.\nTrav
 el to Venue - Springvale City Hall\nSpringvale City Hall is located 30 min
 utes by car from Melbourne's CDB and easy to get to via the Monash Freeway
  and Eastlink.\nParking is available on site and surrounding areas (Grace 
 Park Avenue and small parking off Hillcrest Avenue). Please allow time to 
 find parking nearby.\nThe venue can be accessed by public transport:Train 
 -&nbsp\;cranbourne&nbsp\;or&nbsp\;pakenham&nbsp\;lines - Springvale Statio
 n is 10-15 minutes’ walk to Springvale City Hall.Bus:&nbsp\;902 - Hillcres
 t Grove/Springvale Road or Boonah Street/Springvale Road are the two close
 st stops to Springvale City Hall.\nPlease note: Building works are current
 ly taking place next door to Springvale City Hall.\nFor more information o
 n how to get to Springvale City Hall by public transport see&nbsp\;moovi\,
 &nbsp\;ptv&nbsp\;and&nbsp\;metro trains\nSee Google Map location of venue
 \nFurther Information:\nFor more information please contact Mr Sandy Kouro
 upidis\, Multifaith Officer\, Faith Communities Council of Victoria\, Mobi
 le: 0412 670 369 | Email:&nbsp\;officer@faithvictoria.org.au\nThis event i
 s hosted by the Interfaith Network of the City of Greater Dandenong and th
 e Faith Communities Council of Victoria\; and proudly supported by the Cit
 y of Greater Dandenong and the Victorian State Government - Department of 
 Premier and Cabinet. https://faithvictoria.org.au/upcoming-events/event/16
 32-victorian-interfaith-networks-conference-2019-registrations-closing-soo
 n
DTSTART:20191117T120000Z
DTEND:20191117T163000Z
LOCATION:Springvale City Hall\, 397-405 Springvale Road  Springvale\, VIC 3
 171 (405 Springvale Rd\, Springvale VIC 3171\, Australia)
SUMMARY:Victorian Interfaith Networks Conference 2019: Registrations Closin
 g Soon
URL:https://faithvictoria.org.au/upcoming-events/event/1632-victorian-inter
 faith-networks-conference-2019-registrations-closing-soon
END:VEVENT
END:VCALENDAR
