BEGIN:VCALENDAR
VERSION:2.0
PRODID:-//https://faithvictoria.org.au///NONSGML kigkonsult.se iCalcreator 2.10.15//
METHOD:PUBLISH
BEGIN:VEVENT
UID:20260419T205551UTC-40566NAS3b@https://faithvictoria.org.au/
DTSTAMP:20260419T205551Z
DESCRIPTION:Hobsons Bay Interfaith Network invites you to:\nRecognise\, Res
 pond and Refer - the 3Rs of Family Violvence\nDate: Monday 16 November 202
 0&nbsp\; &nbsp\; Time: 6pm to 9pmLocation: Online\nAre you a leader\, comm
 ittee member or organiser within your faith community? Does your faith com
 munity come to you in times of crisis?\nThen you have a very important rol
 e in supporting your faith community members to be safe and receive the su
 pport they need at times of crisis.\nRecognise\, Respond and Refer – the 3
 Rs of Family Violence.\nLearn how to recognise the signs of family violenc
 e\, respond appropriately and make referrals to specialist services. Atten
 d one of the workshops below\, to learn the skills to support your faith f
 amilies and communities at times of crisis. Workshop delivered by EDVOS - 
 specialist Family Violence service.\nCost: Free | Register here\nFor more 
 infomation\, contact: (03) 9932 1638&nbsp\;\nBrought to you by the Buildin
 g Equality and Respect Project – a Western Interfaith Network Collaboratio
 n. https://faithvictoria.org.au/upcoming-events/event/1732-recognise-respo
 nd-and-refer-hobsons-bay-interfaith-network
DTSTART:20201116T180000Z
DTEND:20201116T210000Z
LOCATION:Melbourne VIC 3000 (Melbourne VIC\, Australia)
SUMMARY:Recognise\, Respond and Refer: Hobsons Bay Interfaith Network
URL:https://faithvictoria.org.au/upcoming-events/event/1732-recognise-respo
 nd-and-refer-hobsons-bay-interfaith-network
END:VEVENT
END:VCALENDAR
