BEGIN:VCALENDAR
VERSION:2.0
PRODID:-//https://faithvictoria.org.au///NONSGML kigkonsult.se iCalcreator 2.10.15//
METHOD:PUBLISH
BEGIN:VEVENT
UID:20260424T071738UTC-9025aC96pS@https://faithvictoria.org.au/
DTSTAMP:20260424T071738Z
DESCRIPTION:Maroondah Interfaith Network invites you to:\nIn Pursuit of Hap
 piness Seminar Series: What Makes a Happy Society?\nDate: Saturday 16 Nove
 mber 2019&nbsp\; &nbsp\; &nbsp\;Time: 3pm to 5pmLocation:&nbsp\;Janssen Sp
 irituality Centre\, 22 Woodvale Road\, Boronia VIC 3155\nWhile our backgro
 unds may be very different\, there are common goals for all human beings. 
 We want a life that is happy. We want to live in a society which is peacef
 ul and harmonious.The aim of these seminars is to explore what our differe
 nt traditions and what science tells us as a basis for thinking through ho
 w to live a happy and fulfilling life. We will seek to find what is common
  and understand our differences.\nAustralians see the absence of war\, coo
 peration\, social justice\, security and sustainability as key features of
  a happy society. But how is such happiness in society achieved?\nPanel me
 mbers include:\n\nDamian Gauci (Chan Buddhist tradition)\nRev Lucas Taylor
  (Ringwood Uniting Church)\nMary Dewberry (psychologist)\nSwami Sunishthan
 anda (Vedanta Hindu Centre)\n\nFollowing brief presentations from the pane
 l members and discussion with them\, there will be group discussion.\nCost
 : Free |&nbsp\;To register\, click hereFor more information\, contact:&nbs
 p\;Prof. Philip Hughes |&nbsp\;maroondahinterfaith@gmail.com&nbsp\;|&nbsp\
 ;www.maroondahinterfaith.org.au&nbsp\;\nThis series of seminars is organis
 ed by the Maroondah Interfaith Network in conjunction with the Karuna Proj
 ect.&nbsp\;The Karuna Project is an interfaith project to grow an uncondit
 ional love centre where all are welcome\, whatever their spiritual perspec
 tive.&nbsp\;(Karuna is a Sanskrit word for compassion).\nThe seminar serie
 s has been made possible by a grant from the Maroondah City Council\n&nbsp
 \; https://faithvictoria.org.au/upcoming-events/event/1628-in-pursuit-of-h
 appiness-what-makes-a-happy-society-maroondah-interfaith-network
DTSTART:20191116T150000Z
DTEND:20191116T170000Z
LOCATION:Janssen Spirituality Centre\, 22 Woodvale Road\, Boronia VIC 3155 
 (22 Woodvale Rd\, Boronia VIC 3155\, Australia)
SUMMARY:In Pursuit of Happiness: What Makes a Happy Society | Maroondah Int
 erfaith Network
URL:https://faithvictoria.org.au/upcoming-events/event/1628-in-pursuit-of-h
 appiness-what-makes-a-happy-society-maroondah-interfaith-network
END:VEVENT
BEGIN:VEVENT
UID:20260424T071738UTC-90351J0xke@https://faithvictoria.org.au/
DTSTAMP:20260424T071738Z
DESCRIPTION:Monash Interfaith Gathering invites you to:\nSing for Peace Lau
 nch\nDate: Saturday 16 November 2019&nbsp\; &nbsp\; &nbsp\;Time: 11am to 1
 2:30pmLocation:&nbsp\;Clayton Community Centre (in Monash Youth Services)\
 , 9-15 Cooke Street Clayton\, VIC 3168\nThis newly formed group is open to
  adults from all ages\, genders and backgrounds including those from non-f
 aith backgrounds.\nExperience an eye-opening conversation about different 
 faiths\; Enjoy learning songs of peace and creating harmonies together\; B
 uild new friendships across faith communities. Open to all faiths\, all ag
 es\, and any vocal skills.\nContact: Nadia 0409 797 612 https://faithvicto
 ria.org.au/upcoming-events/event/1655-sing-for-peace-monash-interfaith-gat
 hering
DTSTART:20191116T110000Z
DTEND:20191116T123000Z
LOCATION:Clayton Community Centre\, 9-15 Cooke Street  Clayton\, VIC 3168 (
 9-15 Cooke St\, Clayton VIC 3168\, Australia)
SUMMARY:Sing for Peace: Monash Interfaith Gathering
URL:https://faithvictoria.org.au/upcoming-events/event/1655-sing-for-peace-
 monash-interfaith-gathering
END:VEVENT
END:VCALENDAR
