BEGIN:VCALENDAR
VERSION:2.0
PRODID:-//https://faithvictoria.org.au///NONSGML kigkonsult.se iCalcreator 2.10.15//
METHOD:PUBLISH
BEGIN:VEVENT
UID:20260419T225032UTC-7337viOkKe@https://faithvictoria.org.au/
DTSTAMP:20260419T225032Z
DESCRIPTION:The Faith Communities Council of Victoria invites you to:\nFait
 h Communities in Pandemic Times\nDate: Sunday 15 November 2020&nbsp\; &nbs
 p\; &nbsp\;Time: 2pm to 3:30pmLocation: Online (Zoom)\nWhat challenges are
  faith communities facing during the COVID19 pandemic\,&nbsp\;and what imp
 ortant role can they play in this difficult time?What is the end strategy 
 for the COVID 19 pandemic? What is the likelihood&nbsp\;of an ‘ethical’ va
 ccine and how will it be administered?\nJoin our Question &amp\; Answer fo
 rum for answers to&nbsp\;these and many other questions with guest speaker
 &nbsp\;Professor John Catford\, who is currently a&nbsp\;specialist health
  adviser to the Victorian Government.\nIntroduction: Rev Ian Smith\, Secre
 tary\, Faith Communities Council of VictoriaModerator: Norman Currie\, Jan
 ssen Spirituality Centre\nFree Registration: https://www.eventbrite.com.au
 /e/faith-communities-in-pandemic-times-tickets-120148670909For flyer\, ple
 ase click here.&nbsp\;\nThis event is hosted by the Faith Communities Coun
 cil of Victoria in partnership with Melton City Council and the Victorian 
 State Government - Department of Premier and Cabinet.\n\n https://faithvic
 toria.org.au/upcoming-events/event/1719-faith-communities-in-pandemic-time
 s-faith-communities-council-of-victoria
DTSTART:20201115T140000Z
DTEND:20201115T153000Z
LOCATION:Melbourne VIC 3000 (Melbourne VIC\, Australia)
SUMMARY:Faith Communities in Pandemic Times: Faith Communities Council of V
 ictoria
URL:https://faithvictoria.org.au/upcoming-events/event/1719-faith-communiti
 es-in-pandemic-times-faith-communities-council-of-victoria
END:VEVENT
END:VCALENDAR
