BEGIN:VCALENDAR
VERSION:2.0
PRODID:-//https://faithvictoria.org.au///NONSGML kigkonsult.se iCalcreator 2.10.15//
METHOD:PUBLISH
BEGIN:VEVENT
UID:20260424T030731UTC-5618KspWUl@https://faithvictoria.org.au/
DTSTAMP:20260424T030731Z
DESCRIPTION:Jewish Christian Muslim&nbsp\;Association of Australia invites 
 you to:\nDeveloping Cultural Capabilities In Schools | Annual General Meet
 ingThe JCMA Schools Program |&nbsp\;Driving Social Change\nDate:&nbsp\;Thu
 rsday 15 November 2018&nbsp\; &nbsp\; Time: 6:45pm for 7pm startLocation:&
 nbsp\;The Cathedral Room\, Cardinal Knox Centre\,&nbsp\;383 Albert Street\
 , East MelbourneParking is available at the back of the building\, entry f
 rom Lansdowne Street. The Cathedral Room is entered from the car park.\nDe
 veloping cultural understanding and capability is a required part of Austr
 alia&rsquo\;s curriculum and increasingly recognised as an important compe
 tence for all of us to develop. Our new JCMA professional learning worksho
 ps helps teachers gain an understanding of diversity\, stereotyping and un
 conscious bias and how it affects what happens in the classroom. Come alon
 g and learn about some of the research guiding the development of our prog
 rams and experience some of the workshop activities developed for use in t
 he classrooms.&nbsp\;\nLight supper supplied (Halal &amp\; Kosher).&nbsp\;
 \nRSVP&nbsp\;: https://jcma2018agm.eventbrite.com.auEnquiries:&nbsp\;03 92
 87 5590 |&nbsp\;executiveofficer@jcma.org.au\n&nbsp\; https://faithvictori
 a.org.au/upcoming-events/event/1493-developing-cultural-capabilities-in-sc
 hools-jewish-christian-muslim-association-of-australia
DTSTART:20181115T190000Z
DTEND:20181115T210000Z
LOCATION:Cathedral Room\, Cardinal Knox Centre\, 383 Albert Street\, East M
 elbourne (Cathedral Room\, Cardinal Knox Centre\, 383 Albert Street\, East
  Melbourne)
SUMMARY:Developing Cultural Capabilities In Schools: Jewish Christian Musli
 m Association of Australia
URL:https://faithvictoria.org.au/upcoming-events/event/1493-developing-cult
 ural-capabilities-in-schools-jewish-christian-muslim-association-of-austra
 lia
END:VEVENT
END:VCALENDAR
