BEGIN:VCALENDAR
VERSION:2.0
PRODID:-//https://faithvictoria.org.au///NONSGML kigkonsult.se iCalcreator 2.10.15//
METHOD:PUBLISH
BEGIN:VEVENT
UID:20260424T040442UTC-2955uzmkkC@https://faithvictoria.org.au/
DTSTAMP:20260424T040442Z
DESCRIPTION:Australian Intercultural Society and Victoria University invite
  you to:\nShup&nbsp\; Up &amp\; Listen to US! | Youth Forum\nDate: Thursda
 y 14 November 2019&nbsp\; &nbsp\; Time: 6:30pm to 8:30pmLocation:&nbsp\;Vi
 ctoria University - Metro West\, 138 Nicholson Street\, Footscray\, VIC 30
 11\nDo you feel like you have no control over your future ? That no matter
  how loud you scream and yell that no one is listening to you? Do older ge
 nerations make you feel that your emotions are frivolous and invalidate yo
 ur feelings?\n“Shut Up and Listen to Us !” is a Youth Forum that focuses o
 n getting the millennials and Generation Z’s voice heard when discussing b
 ig issue topics such as Identity &amp\; Belonging\, Mental Health &amp\; C
 yberbullying\, Jobs &amp\; Artificial Intelligence\, Climate Change &amp\;
  Refugees and more. We have assembled a forum of young leaders to discuss 
 certain social issues impacting our society and we invite all people\, bot
 h young and old alike\, to come and listen to what the leaders of tomorrow
  have to say about these topics.\nPanellists:\n\nAllara Pearce\nDilara Ana
 z\nKareem Al Ansary\nSahil Puri\nTemi Oladiji\n\nCost: Free | To register\
 , click here https://faithvictoria.org.au/upcoming-events/event/1647-shut-
 up-listen-to-us-australian-intercultural-society
DTSTART:20191114T183000Z
DTEND:20191114T203000Z
LOCATION:Victoria University MetroWest\, 138 Nicholson St Footscray VIC 301
 1 (138 Nicholson St Footscray VIC 3011)
SUMMARY:Shut Up & Listen to us! : Australian Intercultural Society
URL:https://faithvictoria.org.au/upcoming-events/event/1647-shut-up-listen-
 to-us-australian-intercultural-society
END:VEVENT
BEGIN:VEVENT
UID:20260424T040442UTC-2966RU6rOX@https://faithvictoria.org.au/
DTSTAMP:20260424T040442Z
DESCRIPTION:Jewish Christian Muslim Association of Australia invites you to
 :\nAnnual General Meeting 2019 | JCMA Women's Joint Journey to Jerusalem\n
 Date: Thursday 14 November 2019&nbsp\; &nbsp\; &nbsp\;Time: 6:45pm for 7pm
  startLocation:&nbsp\;The Cathedral Room\, Cardinal Knox Centre\, 383 Albe
 rt Street\, East MelbourneParking is available at the back of the building
 \, entry from Lansdowne Street. The Cathedral Room is entered from the car
  park. \nThe Jewish\, Christian and Muslim women who embarked on the ‘JCMA
  Women’s Joint Journey to Jerusalem’ earlier this year will share their ex
 periences of the Holy City journeying together with women of other faiths.
  Their encounters with local women leaders and their interfaith community 
 projects continues to inspire in the retelling of their shared stories and
  experiences with the women of Jerusalem.\nRSVP: https://jcma2019agm.event
 brite.com.au\nLight supper supplied (Halal &amp\; Kosher).\nContact:&nbsp\
 ;(03) 9287 5590&nbsp\;| email: executiveofficer@jcma.org.au&nbsp\; https:/
 /faithvictoria.org.au/upcoming-events/event/1654-annual-general-meeting-20
 19-jewish-christian-muslim-association
DTSTART:20191114T070000Z
DTEND:20191114T090000Z
LOCATION:Cathedral Room\, Cardinal Knox Centre\, 383 Albert Street\, East M
 elbourne (Cathedral Room\, Cardinal Knox Centre\, 383 Albert Street\, East
  Melbourne)
SUMMARY:Annual General Meeting 2019: Jewish Christian Muslim Association
URL:https://faithvictoria.org.au/upcoming-events/event/1654-annual-general-
 meeting-2019-jewish-christian-muslim-association
END:VEVENT
END:VCALENDAR
