BEGIN:VCALENDAR
VERSION:2.0
PRODID:-//https://faithvictoria.org.au///NONSGML kigkonsult.se iCalcreator 2.10.15//
METHOD:PUBLISH
BEGIN:VEVENT
UID:20260423T203510UTC-3279hTCZf0@https://faithvictoria.org.au/
DTSTAMP:20260423T203510Z
DESCRIPTION:University of Divinity invites you to:\nA World at Peace with I
 tself | Remembrance DayElusive dream or achievable goal?\nDate: Sunday 11 
 November 2018&nbsp\; &nbsp\; &nbsp\; Time: 2pm to 5:15pmLocation: Islamic 
 Council of Victoria 372 Spencer Street\, West Melbourne\nA public event to
  remember the past and reimagine the future.\nMC for the Event: Dimity Haw
 kins\, Long-time campaigner for the abolition of nuclear weapons\n\nA refl
 ection on Remembrance Day |&nbsp\;Dr Anne Elvey Member\, Centre for Resear
 ch in Religion and Social Policy\, University of Divinity\nPresentation 'A
 ustralia: Dependent Middle Power or Global Citizen'&nbsp\;|&nbsp\;Prof All
 an Patience University of Melbourne\nInteractive Conversation on Australia
 &rsquo\;s Past &amp\; Future | Emeritus Prof Marilyn Lake University of Me
 lbourne\nMr Mohamed Mohideen President\, Islamic Council of Victoria\nProf
  John Wiseman Melbourne Sustainable Society Institute\nPoetry and Music | 
 Harpist: Cath Connelly\, harpist &amp\; Poets: Alex Skovron\, Kevin Brophy
  and Anne M Carson\nIntroduction to landmark Conference 23-24 April 2019 |
  A Just and Ecologically Sustainable Peace | Emeritus Prof Joseph Camiller
 i OAM La Trobe University\n\nFor registration\, cost and more information\
 , please click here.&nbsp\;Enquiries:&nbsp\;J.Camilleri@latrobe.edu.au htt
 ps://faithvictoria.org.au/upcoming-events/event/1490-a-world-at-peace-with
 -itself-university-of-divinity
DTSTART:20181111T140000Z
DTEND:20181111T171500Z
LOCATION:Islamic Council of Victoria\, 66-68 Jeffcott St\, West Melbourne\,
  Victoria\, Australia 3003 (66-68 Jeffcott St\, West Melbourne VIC 3003\, 
 Australia)
SUMMARY:A World at Peace with itself: University of Divinity
URL:https://faithvictoria.org.au/upcoming-events/event/1490-a-world-at-peac
 e-with-itself-university-of-divinity
END:VEVENT
BEGIN:VEVENT
UID:20260423T203510UTC-329211VktO@https://faithvictoria.org.au/
DTSTAMP:20260423T203510Z
DESCRIPTION:Maroondah Interfaith Network invites you to:\nSacred Spaces | A
 nnual Gathering 2018\nDate: Sunday 11 November 2018&nbsp\; &nbsp\; &nbsp\;
  &nbsp\;Time: 3pmLocation:&nbsp\;Janssen Spirituality Centre\, 22 Woodvale
  Road Boronia 3155\nThe major activity for the afternoon will be a discuss
 ion of &lsquo\;sacred spaces&rsquo\;. It will be introduced and led by Jer
 emy Weetman\, a lecturer at Alphacrucis College\, who is currently studyin
 g for a doctorate on the understanding of &lsquo\;sacred spaces&rsquo\; am
 ong Christians and people other religions and no religion.\nYou are invite
 d to bring a photo of a place that you consider sacred.\nContact: Philip H
 ughes (chair) |&nbsp\;maroondahinterfaith@gmail.com&nbsp\;|&nbsp\;0438 708
  675 https://faithvictoria.org.au/upcoming-events/event/1492-sacred-spaces
 -maroondah-interfaith-network
DTSTART:20181111T150000Z
DTEND:20181111T170000Z
LOCATION:Janssen Spirituality Centre\, 22 Woodvale Road Boronia Victoria 31
 55 (Janssen Spirituality Centre\, 22 Woodvale Road Boronia Victoria 3155)
SUMMARY:Sacred Spaces: Maroondah Interfaith Network
URL:https://faithvictoria.org.au/upcoming-events/event/1492-sacred-spaces-m
 aroondah-interfaith-network
END:VEVENT
BEGIN:VEVENT
UID:20260423T203510UTC-3299wlvt1r@https://faithvictoria.org.au/
DTSTAMP:20260423T203510Z
DESCRIPTION:Old Scotch Collegians Association invites you to:\nRemembrance 
 Day Centenary | Honouring Great Australian in taking the World from War to
  PeaceDate: Sunday 11 November 2018&nbsp\; &nbsp\; &nbsp\; Time:&nbsp\;2.1
 5 for 2.30pmLocation: Memorial Hall\,&nbsp\;Scotch College\, Morrison St\,
  Hawthorn\nThe following orations will give historical and personal accoun
 ts of these great Australians&nbsp\;who inspired the ANZAC spirit of brave
 ry\, perseverance\, sacrifice and mateship:\n\nMonash &amp\; Chauvel\, lea
 ders who inspired a nation: Prof. Roland Perry OAM\, author and historian
 \nMonash: Major Gen. Prof. Jeffrey V Rosenfeld AC OBE KStJ\nChauvel: Nevil
 le Clark MC\, OAM\nIndigenous Troopers: Dr. Esme Bamblett\, CEO Aborigines
  Advancement League\, Abe Schwarz and Ricky Morris\nChoral items by the Op
 en Door Singers\n\nCost: adult $12\; student $0\nPlease note: the Memorial
  Hall has pew seating so please feel free to bring a cushion if required.
 \nEnquiries: ReCharge-100@outlook.com&nbsp\;| 0414 622 633For more informa
 tion and RSVP\, please click here.&nbsp\;\nPatrons: Tim Fischer AC\, Nevil
 le Clark MC OAM and Indigenous Pastor Peter Walker.\nPartnering with: Abor
 igines Advancement League\, Aglow Int.\, Anglican Diocese of Melb.\, Inter
 national Christian Embassy Jerusalem\, Jewish National Fund\, Melbourne Ro
 tary\, Open Doors Singers\, PLC\, PLC Old Collegians&rsquo\; Assoc.\, Salu
 ting Monash Council\, Scotch College\, Old Scotch Collegians&rsquo\; Assoc
 .\, Victorian Association of Jewish Ex &amp\; Servicemen &amp\; Women Aust
 ralia (VAJEX). https://faithvictoria.org.au/upcoming-events/event/1497-rem
 embrance-day-centenary-old-scotch-collegians-association
DTSTART:20181111T141500Z
DTEND:20181111T160000Z
LOCATION:Memorial Hall\, Scotch College\, 1 Morrison St\, Hawthorn VIC 3122
   (1 Morrison St\, Hawthorn VIC 3122\, Australia)
SUMMARY:Remembrance Day Centenary: Old Scotch Collegians Association
URL:https://faithvictoria.org.au/upcoming-events/event/1497-remembrance-day
 -centenary-old-scotch-collegians-association
END:VEVENT
END:VCALENDAR
