BEGIN:VCALENDAR
VERSION:2.0
PRODID:-//https://faithvictoria.org.au///NONSGML kigkonsult.se iCalcreator 2.10.15//
METHOD:PUBLISH
BEGIN:VEVENT
UID:20260423T213140UTC-2846KoBuNg@https://faithvictoria.org.au/
DTSTAMP:20260423T213140Z
DESCRIPTION:The Australian Religious Response to Climate Change (ARRCC) inv
 ite you to:\nFaith in Action | National Conference 2019 \nDate: Friday 8 N
 ovember to Sunday 10 November 2019 Location: Australian Centre for Christi
 anity and Culture\, 15 Blackall St Barton\, Canberra\, ACT 2600\nExciting 
 news – registrations are now open to attend the inaugural national confere
 nce of the Australian Religious Response to Climate Change (ARRCC)! ARRCC 
 is a multi-faith grassroots organisation dedicated to action to address th
 e climate emergency. The Australian Centre for Christianity and Culture is
  kindly offering their venue in Barton for free on the weekend of November
  8 – 10.\nThe Conference will be an opportunity to hone the skills and cap
 acity of people of faith to take action on the climate crisis more effecti
 vely. It will serve to:\n\nBuild knowledge\, skills and confidence to orga
 nise at a local level\, especially politically (nonpartisan)\nInspire peop
 le to act on the climate emergency\nEmpower people of diverse faiths to ta
 ke ARRCC-inspired action together\nHelp form and strengthen active local g
 roups\n\nConference participants will share and learn with the help of ins
 pirational campaigners\, skilled community organisers\, school climate str
 ikers\, faith leaders and experts in their fields. Academic speakers are P
 rof Lesley Hughes covering climate science today\; Assoc Prof Mehmet Ozalp
  and Dr Miriam Pepper on religious responses in the Islamic and Christian 
 traditions\, and Dr James Whelan facilitating discussion on the special ro
 le people of faith can play in addressing the climate emergency.\nJosh Cre
 aser from Tipping Point\, Tejopala Rawls\, Dr James Whelan and Thea Ormero
 d will facilitate workshops in community organising skills. There will be 
 plenty of opportunities to ask questions and contribute\, with breaks in w
 hich people can network with each other. When you leave\, you will be clea
 rer on where you might best contribute in your own contexts.\nDetails and 
 how to register\nRegistration of $120 concession\, $220 full price\, $260 
 passionate will cover all meals and tea breaks\, except breakfasts. Food p
 rovided will be vegetarian with vegan options. No alcohol will be served\,
  and a prayer room is available at the venue.\nThe conference does not hav
 e any hotel accommodation deal\, so please arrange your own accommodation.
  If cost is a consideration\, we recommend that you explore Airbnb or Stay
 z as options. For further inquiries contact info@arrcc.org.au\nClick here 
 for details and ways to register.\nFor&nbsp\;brochure\, please click here.
  For Facebook page\, please click here.&nbsp\; https://faithvictoria.org.a
 u/upcoming-events/event/1590-national-conference-arrcc
DTSTART:20191108T160000Z
DTEND:20191110T170000Z
LOCATION:Australian Centre for Christianity and Culture\, 15 Blackall St Ba
 rton\, Canberra\, ACT 2600 (15 Blackall St\, Barton ACT 2600\, Australia)
SUMMARY:National Conference: ARRCC
URL:https://faithvictoria.org.au/upcoming-events/event/1590-national-confer
 ence-arrcc
END:VEVENT
BEGIN:VEVENT
UID:20260423T213140UTC-2870MkulCX@https://faithvictoria.org.au/
DTSTAMP:20260423T213140Z
DESCRIPTION:Bendigo Interfaith Council invites you to:\nFilm Night | The Su
 ltan and the Saint\nDate: Sunday 10 November 2019&nbsp\; &nbsp\; &nbsp\; T
 ime: 7pmLocation:&nbsp\;193-195 High St\, Kangaroo Flat VIC 3555\nTwo men 
 of faith\, the Sultan of Egypt and St Francis of Assisi\, meet face to fac
 e in a time of conflict to make peace.\nCost: Free | Click here for flyer 
 https://faithvictoria.org.au/upcoming-events/event/1639-film-night-bendigo
 -interfaith-council
DTSTART:20191110T190000Z
DTEND:20191110T220000Z
LOCATION:St Mary's Church\, 193-195 High St\, Kangaroo Flat VIC 3555 (193-1
 95 High St\, Kangaroo Flat VIC 3555)
SUMMARY:Film Night: Bendigo Interfaith Council
URL:https://faithvictoria.org.au/upcoming-events/event/1639-film-night-bend
 igo-interfaith-council
END:VEVENT
BEGIN:VEVENT
UID:20260423T213140UTC-2878j5eUkz@https://faithvictoria.org.au/
DTSTAMP:20260423T213140Z
DESCRIPTION:Whitehorse Interfaith Network invites you to:\nCommunity Forum 
 | Faith and our Environment\nDate: Sunday 10 November 2019&nbsp\; &nbsp\; 
 &nbsp\;&nbsp\;Time: 2pm to 4:30pmLocation:&nbsp\;Matsudo Room\, Box Hill T
 own Hall\, 1022 Whitehorse Road\, Box Hill VIC 3128\nFaith leaders from ou
 r local Sikh\, Buddhist\,&nbsp\;Hindu and Islamic communities will share t
 heir faith perspective on caring for&nbsp\;our natural environment in a ti
 me of change.\n\nWurundjeri Welcome to Country\; Q and A panel\nLearn abou
 t other religions and cultures\nSocial informal gathering\nBuild interfait
 h connections and know your community\n\nAll welcome. Free event. Afternoo
 n tea provided.\nBookings essentialContact:&nbsp\;Sarah Martinelli |&nbsp\
 ;(03) 9262 6434&nbsp\;|&nbsp\;sarah.martinelli@whitehorse.vic.gov.au https
 ://faithvictoria.org.au/upcoming-events/event/1646-faith-and-our-environme
 nt-whitehorse-interfaith-network
DTSTART:20191110T140000Z
DTEND:20191110T143000Z
LOCATION:Matsudo Room\, Box Hill Town Hall\, 1022 Whitehorse Road\, Box Hil
 l VIC 3128 (1022 Whitehorse Rd\, Box Hill VIC 3128\, Australia)
SUMMARY:Faith and our Environment: Whitehorse Interfaith Network
URL:https://faithvictoria.org.au/upcoming-events/event/1646-faith-and-our-e
 nvironment-whitehorse-interfaith-network
END:VEVENT
BEGIN:VEVENT
UID:20260423T213140UTC-2886G3MScF@https://faithvictoria.org.au/
DTSTAMP:20260423T213140Z
DESCRIPTION:The Council for Christians and Jews (Vic) invites you to:\nTack
 ling Hate Speech Program\nDate: Sunday 10 November 2019&nbsp\; &nbsp\; &nb
 sp\; Time: 2pm to 4pmLocation: St Dominic's Primary School\,&nbsp\;145 Hig
 hfield Rd\, Camberwell 3124Parking will be available at the Baptist Church
  on the corner of Highfield and Hunter Roads\nThe Council of Christians an
 d Jews (Vic) together with the Online Hate Prevention Institute present th
 e Community Representative Training for the Tackling Hate Speech program.
 \nThe training will take place on 10 November at St Dominic’s Primary Scho
 ol\, 145 Highfield Road\, Camberwell.\nIntroductory sessions for the commu
 nity are designed as 1.5 hour programs and support material will be provid
 ed. The sessions will cover:\n\nRecognising hate: create awareness of the 
 common language and narratives of today’s hate\nKnowing how hate manifests
 : understanding the ways hate enters the discussions\nStanding against hat
 e: how to respond with counter speech\, reporting\, transparency reporting
 \, and moderation policies&nbsp\;for community spaces.\n\nThese sessions a
 re designed to be run by a trained member of the community and may be run 
 multiple times for community members and local residents.\nContact:&nbsp\;
 ccjvic@bigpond.net.au&nbsp\;|&nbsp\;(03) 9429 5212Buy tickets by clicking 
 here.&nbsp\;\n&nbsp\; https://faithvictoria.org.au/upcoming-events/event/1
 651-tackling-hate-speech-program-council-of-christians-and-jews-vic
DTSTART:20191110T140000Z
DTEND:20191110T160000Z
LOCATION:St Dominic's Primary School\, 145 Highfield Road\, Camberwell\, Vi
 ctoria (145 Highfield Rd\, Camberwell VIC 3124\, Australia)
SUMMARY:Tackling Hate Speech Program: Council of Christians and Jews (Vic)
URL:https://faithvictoria.org.au/upcoming-events/event/1651-tackling-hate-s
 peech-program-council-of-christians-and-jews-vic
END:VEVENT
END:VCALENDAR
