BEGIN:VCALENDAR
VERSION:2.0
PRODID:-//https://faithvictoria.org.au///NONSGML kigkonsult.se iCalcreator 2.10.15//
METHOD:PUBLISH
BEGIN:VEVENT
UID:20260422T110424UTC-1510R3FdCV@https://faithvictoria.org.au/
DTSTAMP:20260422T110424Z
DESCRIPTION:University of Divinity invites you to:\nEnsuring safe spaces fo
 r all people of faith\nDate: Friday 8 November 2024&nbsp\; &nbsp\; &nbsp\;
 &nbsp\;Time:&nbsp\;9:30am to 1pmLocation:&nbsp\;University of Divinity\, S
 t Paschal Campus90 Albion Rd\, Box Hill\nEmpowering Pastoral Care: Support
 ing LGBTQA People of Faith\nChange and Suppression (conversion) Practices 
 Prohibition Act 2021\nSeeking a deeper understanding of LGBTQA pastoral ca
 re?\nThe University of Divinity is proud to present a transformative Profe
 ssional Development module\, “Providing Safety and Support for LGBTQA Peop
 le of Faith: Towards Better Pastoral Care”.\nThis professional development
  module\, expertly delivered by the leading advocate and trainer Jac Tomli
 ns\, tackles the crucial concept of ‘minority stress’ and the imperative o
 f building structural resilience.\nOur previous participants rave about th
 is workshop:\n\n“Thoughtful\, delivered with great care\, very relevant”\n
 “I found all content to be delivered in a very caring and compassionate wa
 y”\n“Very well written\, explored\, and explained. No ambiguity at all.\n
 \nDelve deep into the ideologies that fuel change and suppression practice
 s\, understanding their detrimental effects. Importantly\, participants wi
 ll be encouraged to introspect\, adapting their practices to ensure inclus
 ivity and support within their faith traditions and work environments.\nCo
 ntact: Cath McKinney: cmckinney@divinity.edu.au\nBookings are essential - 
 places are limited.\nFree tickets | Click here to register  https://faithv
 ictoria.org.au/upcoming-events/event/2273-ensuring-safe-spaces-for-all-peo
 ple-of-faith-2-university-of-divinity
DTSTART:20241108T093000Z
DTEND:20241108T130000Z
LOCATION:University of Divinity\, St Paschal Campus\, 90 Albion Rd\, Box Hi
 ll VIC 3128 (90 Albion Rd\, Box Hill VIC 3128\, Australia)
SUMMARY:Ensuring safe spaces for all people of faith (2): University of Div
 inity
URL:https://faithvictoria.org.au/upcoming-events/event/2273-ensuring-safe-s
 paces-for-all-people-of-faith-2-university-of-divinity
END:VEVENT
END:VCALENDAR
