BEGIN:VCALENDAR
VERSION:2.0
PRODID:-//https://faithvictoria.org.au///NONSGML kigkonsult.se iCalcreator 2.10.15//
METHOD:PUBLISH
BEGIN:VEVENT
UID:20260423T134913UTC-962105XZiS@https://faithvictoria.org.au/
DTSTAMP:20260423T134913Z
DESCRIPTION:The Wyndham Interfaith Network invites you to:\nMultifaith Dinn
 er\nDate: Wednesday 7 November 2018&nbsp\; &nbsp\; &nbsp\; &nbsp\;Time: 6:
 15pm for a 6:30pm startLocation: Encore Events Centre\, 80 Derrimut Road\,
  Hoppers Crossing\nKeynote Address:&nbsp\;Jessie Lloyd\nMore about the spe
 aker: Jessie Lloyd&nbsp\; giving&nbsp\; voice to stories of&nbsp\; dreamin
 g and relationship with the land.&nbsp\; We believe a message of connectio
 n and&nbsp\; respect for the faith practice of first peoples is important 
 for all to understand. It is also a base from which to look to the&nbsp\; 
 future and highlight&nbsp\; the key points of the&nbsp\; Uluru statement t
 aking up the&nbsp\; invitation 'to walk with first nations people&nbsp\; i
 n a movement for a better&nbsp\; future?'&nbsp\;Last year&rsquo\;s dinner 
 was popular and you can see on this link https://www.youtube.com/watch?v=1
 Xb1GbJucsI&amp\;t=3s\nVegetarian and Halal options available. This is an a
 lcohol free event.\nRSVP: 1 November 2017 | rsvp@wyndhamcec.org.au | 03 97
 42 4013Cost: $20 per person\nPlease note: Ticket quantity is limited and w
 ill only be available until sold out&nbsp\;| Online link for bookings is&n
 bsp\;https://www.trybooking.com/YQOO&nbsp\;| For flyer\, please click here
 .\nFor more information contact:&nbsp\;Laurence Gray | Interfaith Network 
 Officer |&nbsp\;laurenceg@wyndhamcec.org.au&nbsp\;|&nbsp\;(03) 9742 4013 |
  0401 337 696Bhakta Dasa&nbsp\;| Chair of Wyndham Interfaith Network |&nbs
 p\;bhakta@iskcon.net.au\nThis event is supported by Wyndham City\, Victori
 an Multicultural Commission\, Victoria State Government\, Wyndham Communit
 y Education Centre\, City West Water.\nThe Wyndham Interfaith Network was 
 established in 2010 for the purpose of promoting respect and acceptance fo
 r the integrity of each other's beliefs\, cultures and traditions\, a desi
 re arising from both a shared and common humanity and from being people of
  faith and spirituality. https://faithvictoria.org.au/upcoming-events/even
 t/1478-multifaith-dinner-wyndham-interfaith-network
DTSTART:20181107T181500Z
DTEND:20181107T210000Z
LOCATION:Encore Events Centre\, 80 Derrimut Road\, Hoppers Crossing 3029 (8
 0 Derrimut Rd\, Hoppers Crossing VIC 3029\, Australia)
SUMMARY:Multifaith Dinner: Wyndham Interfaith Network
URL:https://faithvictoria.org.au/upcoming-events/event/1478-multifaith-dinn
 er-wyndham-interfaith-network
END:VEVENT
END:VCALENDAR
