BEGIN:VCALENDAR
VERSION:2.0
PRODID:-//https://faithvictoria.org.au///NONSGML kigkonsult.se iCalcreator 2.10.15//
METHOD:PUBLISH
BEGIN:VEVENT
UID:20260420T164252UTC-8282vEWZzh@https://faithvictoria.org.au/
DTSTAMP:20260420T164252Z
DESCRIPTION:Kingston Interfaith Network invites you to:\nThe role of Police
  Liaison Officers and Community Leaders in assisting the community\nDate: 
 Thursday 5 November 2020&nbsp\; &nbsp\; &nbsp\;Time: 5:30pm to 6:30pmLocat
 ion: Online Zoom event\nThe City of Kingston invites you to learn more abo
 ut inter-cultural dialogue and social cohesion.\nSpeakers:\n\nRev Jim Jung
 \, Senior Police Chaplain\, Wellbeing Services (Chaplaincy)\nJames Waterso
 n\, Leading Senior Constable\, Southern Metro Region Multicultural Liaison
  Unit\, Victoria Police\nSadia Ali\, Director and founder of United Cultur
 al Support Inc.\n\nCost: Free\nZoom event:&nbsp\;https://us02web.zoom.us/j
 /88634725519&nbsp\;Meeting ID: 886 3472 5519 |&nbsp\;No password |&nbsp\;C
 all: +61 8 7150 1149\nFurther information:&nbsp\;Elisabetta Robecchi |&nbs
 p\;elisabetta.robecchi@kingston.vic.gov.au&nbsp\;| (03) 9581 4783 https://
 faithvictoria.org.au/upcoming-events/event/1734-the-role-of-police-liaison
 -officers-and-community-leaders-in-assisting-the-community-kingston-interf
 aith-network
DTSTART:20201105T173000Z
DTEND:20201105T183000Z
LOCATION:Melbourne VIC 3000 (Melbourne VIC\, Australia)
SUMMARY:The role of Police Liaison Officers and Community Leaders in assist
 ing the community: Kingston Interfaith Network
URL:https://faithvictoria.org.au/upcoming-events/event/1734-the-role-of-pol
 ice-liaison-officers-and-community-leaders-in-assisting-the-community-king
 ston-interfaith-network
END:VEVENT
END:VCALENDAR
