BEGIN:VCALENDAR
VERSION:2.0
PRODID:-//https://faithvictoria.org.au///NONSGML kigkonsult.se iCalcreator 2.10.15//
METHOD:PUBLISH
BEGIN:VEVENT
UID:20260420T031229UTC-7159KVs6uc@https://faithvictoria.org.au/
DTSTAMP:20260420T031229Z
DESCRIPTION:\nHoly Day: Birth of Baha'ullah Date: Sunday 3 November 2024Fai
 th: Baha'i\nDescription: The anniversary of the birth of Baha'u'llah (born
  Mirza Husayn-'Ali) in 1817 CE in Tehran\, Persia (now Iran). Baha'u'llah\
 , which means the 'Glory of God'\, is the founder of the Baha'i faith. htt
 ps://faithvictoria.org.au/upcoming-events/event/2029-birth-of-bahaullah-ba
 hai
DTSTART;VALUE=DATE:20241103
LOCATION:RSEvents!Pro Location (Colorado\, USA)
SUMMARY:Birth of Baha'ullah | Baha'i 	
URL:https://faithvictoria.org.au/upcoming-events/event/2029-birth-of-bahaul
 lah-bahai
END:VEVENT
END:VCALENDAR
