BEGIN:VCALENDAR
VERSION:2.0
PRODID:-//https://faithvictoria.org.au///NONSGML kigkonsult.se iCalcreator 2.10.15//
METHOD:PUBLISH
BEGIN:VEVENT
UID:20260420T012048UTC-1611VnKJhg@https://faithvictoria.org.au/
DTSTAMP:20260420T012048Z
DESCRIPTION:\nHoly Day: Birth of the BabDate: Saturday 2 November 2024Faith
 : Baha'i\nDescription:The anniversary of the birth in 1819 CE in Shiraz\, 
 Persia (now Iran)\, of Siyyid 'Ali- Muhammad\, who later took the title of
  'the Bab'\, meaning 'the Gate'. The Bab was the herald of the Baha'i fait
 h. https://faithvictoria.org.au/upcoming-events/event/2030-birth-of-the-ba
 b-bahai
DTSTART;VALUE=DATE:20241102
LOCATION:RSEvents!Pro Location (Colorado\, USA)
SUMMARY:Birth of the Bab | Baha'i
URL:https://faithvictoria.org.au/upcoming-events/event/2030-birth-of-the-ba
 b-bahai
END:VEVENT
END:VCALENDAR
