BEGIN:VCALENDAR
VERSION:2.0
PRODID:-//https://faithvictoria.org.au///NONSGML kigkonsult.se iCalcreator 2.10.15//
METHOD:PUBLISH
BEGIN:VEVENT
UID:20260420T234358UTC-8482T3jizh@https://faithvictoria.org.au/
DTSTAMP:20260420T234358Z
DESCRIPTION:The Interfaith Centre of Melbroune invites you to:\nTransformin
 g Obstacles into Seeds of Awakening\nDate: Sunday 1 November 2020&nbsp\; &
 nbsp\; &nbsp\;Time: 6pm to 6:45pmLocation: Online\nWe invite you to our in
 clusive Interspiritual Gathering online\, for prayer\, music\, poetry\, an
 d the wisdom of the great traditions.\nThe theme is Transforming Obstacles
  Into Seeds of Awakening. Guest Speaker : Chi Kwang Sunim\, Abbess of King
 lake Seon (Korean Zen) Center.\nTo register for this free event\, please c
 lick here.&nbsp\; https://faithvictoria.org.au/upcoming-events/event/1730-
 transforming-obstacles-into-seeds-of-awakening-the-interfaith-centre-of-me
 lbourne
DTSTART:20201101T180000Z
DTEND:20201101T184500Z
LOCATION:Melbourne VIC 3000 (Melbourne VIC\, Australia)
SUMMARY:Transforming Obstacles into Seeds of Awakening: The Interfaith Cent
 re of Melbourne
URL:https://faithvictoria.org.au/upcoming-events/event/1730-transforming-ob
 stacles-into-seeds-of-awakening-the-interfaith-centre-of-melbourne
END:VEVENT
END:VCALENDAR
