BEGIN:VCALENDAR
VERSION:2.0
PRODID:-//https://faithvictoria.org.au///NONSGML kigkonsult.se iCalcreator 2.10.15//
METHOD:PUBLISH
BEGIN:VEVENT
UID:20260423T034124UTC-2704vzSZOp@https://faithvictoria.org.au/
DTSTAMP:20260423T034124Z
DESCRIPTION:The Jewish Christian Muslim Association of Australia Women&rsqu
 o\;s Committee invites you to:\nA Tour of St Paul&rsquo\;s Cathedral\nDate
 : Thursday 1 November 2018&nbsp\; &nbsp\; &nbsp\; &nbsp\;Time:&nbsp\;10am&
 nbsp\; (Meet at 9.45 just inside the Flinders Street entrance)Location:&nb
 sp\;St Paul's Cathedral\, Melbourne (Corner Flinders and Swanston Streets)
 \nAs part of our continuing efforts in harbouring understanding and apprec
 iation of the Abrahamic faith traditions\, the Jewish Christian Muslim Ass
 ociation of Australia's Women's Committee is pleased to invite you to a gu
 ided tour of St Paul's Cathedral\, in the Melbourne CBD.\nThis follows on 
 from our highly successful tours of the Islamic Museum of Australia in Jun
 e\, and a visit to the Jewish Mikvah (ritual baths)\, St Kilda Synagogue a
 nd the Jewish Museum of Australia in September. The tour will be followed 
 by morning tea in the Cathedral\, which will be scones with jam and cream\
 , Halal and made with Kosher ingredients.\nCost:&nbsp\;$12.50\nTo register
  your interest and participate\, please purchase tickets early\, as they c
 an be sold out.&nbsp\;Register:&nbsp\;https://jcmastpauls.eventbrite.com.a
 u\nMore information: Ginette Everest 03 9287 5590 |&nbsp\;womenconference@
 jcma.org.au\nNote: This is an event for men and women. We suggest using pu
 blic transport or CAR POOLING as traffic and parking can be difficult in t
 he city\n&nbsp\; https://faithvictoria.org.au/upcoming-events/event/1489-t
 our-of-st-paul-s-cathedral-jcma-womens-committee
DTSTART:20181101T100000Z
DTEND:20181101T130000Z
LOCATION:St Paul's Cathedral\, Melbourne (Corner Flinders and Swanston Stre
 ets) (St Paul's Cathedral\, Melbourne (Corner Flinders and Swanston Street
 s))
SUMMARY:Tour of St Paul’s Cathedral: JCMA Women's Committee
URL:https://faithvictoria.org.au/upcoming-events/event/1489-tour-of-st-paul
 -s-cathedral-jcma-womens-committee
END:VEVENT
END:VCALENDAR
