BEGIN:VCALENDAR
VERSION:2.0
PRODID:-//https://faithvictoria.org.au///NONSGML kigkonsult.se iCalcreator 2.10.15//
METHOD:PUBLISH
BEGIN:VEVENT
UID:20260421T012753UTC-1952wg4bd1@https://faithvictoria.org.au/
DTSTAMP:20260421T012753Z
DESCRIPTION:Wyndham Interfaith Network invites you to:\nAnnual Multifaith D
 inner\nDate: Saturday 31 October 2020&nbsp\; &nbsp\; &nbsp\;Time: 7pm to 8
 :30pmLocation: Online\nJoin a virtual multi-faith celebration of diversity
  and to affirm themes of&nbsp\;unity week.&nbsp\;At a time of Covid -19 we
  all need a place to belong. This is especially relevant at a time of shar
 ed stress.&nbsp\;&nbsp\;The free event will be streamed on face book TV.&n
 bsp\;&nbsp\;Participants are encouraged to self-cater at home while viewin
 g the streamed event. The evening will include pre-recorded items of dance
 \, song\, spoken word and a participatory quiz. It will be recorded and av
 ailable to view.&nbsp\;&nbsp\;\nSpeakers include the Reverend Ian Smith Ex
 ecutive Officer of the Victorian Council of Churches who will give a short
  key note reflection on the tradition of all soul’s night (Oct 31st).&nbsp
 \;&nbsp\;&nbsp\;&nbsp\;\nAccess is via&nbsp\;Zoom click&nbsp\;Here&nbsp\;&
 nbsp\; https://faithvictoria.org.au/upcoming-events/event/1731-annual-mult
 ifaith-dinner-wyndham-interfaith-network
DTSTART:20201031T190000Z
DTEND:20201031T203000Z
LOCATION:Melbourne VIC 3000 (Melbourne VIC\, Australia)
SUMMARY:Annual Multifaith Dinner: Wyndham Interfaith Network
URL:https://faithvictoria.org.au/upcoming-events/event/1731-annual-multifai
 th-dinner-wyndham-interfaith-network
END:VEVENT
END:VCALENDAR
