BEGIN:VCALENDAR
VERSION:2.0
PRODID:-//https://faithvictoria.org.au///NONSGML kigkonsult.se iCalcreator 2.10.15//
METHOD:PUBLISH
BEGIN:VEVENT
UID:20260423T020952UTC-8511UEZEFG@https://faithvictoria.org.au/
DTSTAMP:20260423T020952Z
DESCRIPTION:The Council of Christians and Jews (Victoria) invites you to:\n
 Launch of Gesher 2018 | Politics 7 Religion\nDate: Wednesday 31 October&nb
 sp\; &nbsp\; &nbsp\; &nbsp\; &nbsp\; &nbsp\;Time: 7pm to 9pm Location: Ale
 x Theatre\, Theatre 1\, Level 1\, 133-135 Fitzroy Street\, St Kilda VIC 31
 82(Parking is available on Fitzroy Street)\nSpeaker: Dr Nick Dyrenfurth\nA
 bout the speaker: Dr Nick Dyrenfurth is Executive Director of the John Cur
 tin Research Centre. He has worked as an academic and written or edited se
 ven books\, including A Little History of the Australian Labor Party (with
  Frank Bongiorno)\, Mateship: A Very Australian History and Boycotting Isr
 ael is Wrong: the Progressive Path to Peace between Israel and the Palesti
 nians (with Philip Mendes). Nick has worked as a Labor Party advisor and s
 peechwriter as well as having acted as a commentator for newspapers and on
  television and radio. Nick is an Adjunct Research Fellow in Historical St
 udies at Monash University\, where he attained a PhD in Australian history
 .\nCost: $10 | Kosher refreshments will be served and a free copy of Geshe
 r will be available.Please advise the CCJ office if you are attending | (0
 3) 9429 5212 | email: ccjvic@bigpond.net.au https://faithvictoria.org.au/u
 pcoming-events/event/1483-launch-of-gesher-2018-council-of-christians-and-
 jews-vic
DTSTART:20181031T190000Z
DTEND:20181031T210000Z
LOCATION:Alex Theatre\, Theatre 1\, Level 1\, 133-135 Fitzroy Street\, St K
 ilda VIC 3182 (133 Fitzroy St\, St Kilda VIC 3182\, Australia)
SUMMARY:Launch of Gesher 2018: Council of Christians and Jews (Vic)
URL:https://faithvictoria.org.au/upcoming-events/event/1483-launch-of-geshe
 r-2018-council-of-christians-and-jews-vic
END:VEVENT
END:VCALENDAR
