BEGIN:VCALENDAR
VERSION:2.0
PRODID:-//https://faithvictoria.org.au///NONSGML kigkonsult.se iCalcreator 2.10.15//
METHOD:PUBLISH
BEGIN:VEVENT
UID:20260423T020553UTC-0645B9teLx@https://faithvictoria.org.au/
DTSTAMP:20260423T020553Z
DESCRIPTION:The Interfaith Network of the City of Greater Dandenong invites
  you to:\nBook Launch | Many Faiths\, One People\nDate: Wednesday 30 Octob
 er 2019&nbsp\; &nbsp\; &nbsp\; Time: 7pm to 8:30pmLocation: Dandenong Libr
 ary\, 225 Lonsdale Street\, Dandenong\nJoin us in celebrating the Interfai
 th Network's 30th birthday and the launch of their new book on places of w
 orship in Greater Dandenong.\nCost: Free | Public eventNo bookings require
 d | For flyer\, click here\nFor more information: 1300 630 920 | www.great
 erdandenonglibraries.com&nbsp\; https://faithvictoria.org.au/upcoming-even
 ts/event/1640-book-launch-the-interfaith-network-of-the-city-of-greater-da
 ndenong
DTSTART:20191030T190000Z
DTEND:20191030T203000Z
LOCATION:Dandenong Library\, 225 Lonsdale Street\, Dandenong (225 Lonsdale 
 St\, Dandenong VIC 3175\, Australia)
SUMMARY:Book Launch: The Interfaith Network of the City of Greater Dandenon
 g
URL:https://faithvictoria.org.au/upcoming-events/event/1640-book-launch-the
 -interfaith-network-of-the-city-of-greater-dandenong
END:VEVENT
BEGIN:VEVENT
UID:20260423T020553UTC-065436eo8C@https://faithvictoria.org.au/
DTSTAMP:20260423T020553Z
DESCRIPTION:You are invited to:\nShowing Up: Bystander Intervention Program
 Responding to Islamophobia and Antisemitism\nDate: 30 October 2019&nbsp\; 
 &nbsp\; &nbsp\;Time: 9am to 1pmLocation: Visy Cares hub\,&nbsp\;Brimbank C
 ommunity and Civic Centre\, 301 Hampshire Rd\, Sunshine VIC 3020\nBe empow
 ered to take safe active stance when observing hateful\, racist incidents 
 of Antisemitism and Islamophobia.\nParticipants will be trained and equipp
 ed with skills\, language and confidnece to respond to bigotry\, harrassme
 nt and violence in our community.\nHalf-day program includes:\n\nProvide c
 ommunity-led response to Islamophobia and Antisemitism\nSupport people who
  have been subjected to Islamophobia and Antisemitism\nSupport bystanders 
 to respond to racist situations in a safe manner\nPromote respectful behav
 iour and interfaith standing\n\nLimited seats | Expression of interest:\n
 \nAnat Aloni (JCCV) | anat.aloni@jccv.org.au&nbsp\;| (03) 9272 5566\nAhmet
  Keskin (AIS) | akeskin@intercultural.org.au&nbsp\;| (03) 9867 2248\nJessi
 ca Swann (BA) | outreach@benevolenceaustralia.org&nbsp\;| (03) 9913 8262\n
 \nAs part of the Anti-Racism and Anti-Discrimination Action Plan\, the Vic
 torian Government is supporting key organisations to deliver community-led
  responses to Islamophobia and Antisemitism. This project is a collaborati
 ve initiative by the Jewish Community Council of Victoria (JCCV)\, Austral
 ian Intercultural Society (AIS)\, Australian Union of Jewish Students (AUJ
 S) and Benevelonce Australia who have formed a united body aimed at addres
 sing these issues. https://faithvictoria.org.au/upcoming-events/event/1648
 -showing-up-bystander-intervention-program-australian-intercultural-societ
 y
DTSTART:20191030T090000Z
DTEND:20191030T130000Z
LOCATION:Brimbank Community and Civic Centre\, 301 Hampshire Rd\, Sunshine 
 VIC 3020 (301 Hampshire Rd\, Sunshine VIC 3020\, Australia)
SUMMARY:Showing Up - Bystander Intervention Program: Australian Intercultur
 al Society
URL:https://faithvictoria.org.au/upcoming-events/event/1648-showing-up-byst
 ander-intervention-program-australian-intercultural-society
END:VEVENT
END:VCALENDAR
