BEGIN:VCALENDAR
VERSION:2.0
PRODID:-//https://faithvictoria.org.au///NONSGML kigkonsult.se iCalcreator 2.10.15//
METHOD:PUBLISH
BEGIN:VEVENT
UID:20260422T205204UTC-5365ukvNf6@https://faithvictoria.org.au/
DTSTAMP:20260422T205204Z
DESCRIPTION:The Hobsons Bay Interfaith Network invites you to:\nThink\, Pre
 vent &ndash\; Workshop\nDate: Sunday 28 October 2018&nbsp\; &nbsp\; &nbsp\
 ; Time:&nbsp\;12.30pm to 3.30pmLocation: Holy Trinity Church of Williamsto
 wn\, 2 Pasco Street\, Williamstown\nMembers of faith groups are invited to
  an interactive workshop to build the skills and confidence to speak out a
 gainst violence-supportive attitudes and behaviours.\nWhat if you could st
 op violence before it starts? You can. Learn how to tackle\, safely and ef
 fectively\, domestic and relationship violence\, sexual harassment and sex
 ual assault.\nEveryone has a role to play in the prevention of violence an
 d while no one can do everything\, everyone can do something. This worksho
 p will be delivered by trained facilitators and is endorsed by the Faith C
 ommunities Council Victoria.\nLimited places\, register for your free tick
 et at www.hobsonsbay.vic.gov.au/thinkpreventworkshop\nThis event is suppor
 ted by Hobsons Bay City Council. https://faithvictoria.org.au/upcoming-eve
 nts/event/1407-think-prevent-hobsons-bay-interfaith-network
DTSTART:20181028T123000Z
DTEND:20181028T153000Z
LOCATION:Holy Trinity Church Hall\, 2 Pasco Street\, Williamstown 3016 (2 P
 asco St\, Williamstown VIC 3016\, Australia)
SUMMARY:Think Prevent: Hobsons Bay Interfaith Network
URL:https://faithvictoria.org.au/upcoming-events/event/1407-think-prevent-h
 obsons-bay-interfaith-network
END:VEVENT
BEGIN:VEVENT
UID:20260422T205204UTC-53761kBULA@https://faithvictoria.org.au/
DTSTAMP:20260422T205204Z
DESCRIPTION:The Ballarat Interfaith Network invites you to:\nFriendship Wal
 k 2018\nDate: Sunday 28 October 2018&nbsp\; &nbsp\; &nbsp\; Time: 2pm to 5
 pmLocation: Islamic Mosque\, 116 Elsworth St\, Canadian 3350\nCome along a
 nd spend an afternoon walking together in friendship and goodwill between 
 Ballarat's Mosque\, Jewish&nbsp\;Synagogue and Greek OrthodoxChurch.\nBegi
 nning at the Islamic Mosque in Elsworth St East\, Canadian we will walk to
 gether to the Ballarat Hebrew Congregation Synagogue Bakery Hill and then 
 the Greek Orthodox Church Humffray St North.Through prayers of peace\, ref
 lection and informative talks\, we will learn about some of the history an
 d traditions of each of the places we visit.&nbsp\; Water will be availabl
 e en-route. A brief Community Safety address will be given by Ballarat Com
 munity Police. At the walks’ conclusion\, refreshments will be served at t
 he Greek Orthodox Church.\nMeeting Place &amp\; Planned Walking Route:\n2.
 00pm – Islamic Mosque\, 116 Elsworth St\, Canadian&nbsp\; St Alipius Catho
 lic Church\, 84 Victoria St\, Ballarat East3.30pm – Hebrew Congregation Sy
 nagogue\, Cnr Barkly St South\, Bakery Hill4.20pm –&nbsp\;Greek Orthodox C
 hurch\, 116 Humffray St North5.00pm&nbsp\;– Conclusion\nFor catering purpo
 ses\, please register your attendanceFor registration\, please click here 
 or call Margaret 0400 650 234 | Maureen 0400 650 234\nThis event is being 
 organised in partnership with Melbourne Jewish Christian Muslim Associatio
 n (JCMA) and sponsored by Ballarat Regional Multicultural Council (BRMC)\,
  City of Ballarat\, Victorian Multicultural Commission\, State of Victoria
 . https://faithvictoria.org.au/upcoming-events/event/1484-friendship-walk-
 2018-ballarat-interfaith-network
DTSTART:20181028T140000Z
DTEND:20181028T170000Z
LOCATION:Islamic Mosque\, 116 Elsworth St East\, Canadian\, VIC 3350 (116 E
 lsworth St E\, Canadian VIC 3350\, Australia)
SUMMARY:Friendship Walk 2018: Ballarat Interfaith Network
URL:https://faithvictoria.org.au/upcoming-events/event/1484-friendship-walk
 -2018-ballarat-interfaith-network
END:VEVENT
BEGIN:VEVENT
UID:20260422T205204UTC-5389l3lUU0@https://faithvictoria.org.au/
DTSTAMP:20260422T205204Z
DESCRIPTION:The Monash Interfaith Gathering invites you to:\nWalk Together 
 | National Unity Week 2018\nDate: Sunday 28 October 2018&nbsp\; &nbsp\; &n
 bsp\; &nbsp\; &nbsp\;Time: 12pm to 2:30pmLocation: Jells Park\,&nbsp\;Meet
  at Oaks &amp\; Ashes Picnic Ground (Ferntree Gully Rd entrance Wheelers H
 ill)\nFollowing our walk together we will enjoy a picnic - please bring a 
 plate of food to share\nFor more information / RSVP:&nbsp\; Please contact
  Shashi | 0411415490 https://faithvictoria.org.au/upcoming-events/event/14
 85-walk-together-monash-interfaith-gathering
DTSTART:20181028T120000Z
DTEND:20181028T143000Z
LOCATION:Jells Park\, Waverly Road\, Wheelers Hill VIC 3150 (3 Jells Rd\, W
 heelers Hill VIC 3150\, Australia)
SUMMARY:Walk Together: Monash Interfaith Gathering
URL:https://faithvictoria.org.au/upcoming-events/event/1485-walk-together-m
 onash-interfaith-gathering
END:VEVENT
BEGIN:VEVENT
UID:20260422T205204UTC-5396bFVAWz@https://faithvictoria.org.au/
DTSTAMP:20260422T205204Z
DESCRIPTION:Banyule Interfaith Network invites you to:\nFaith in Action\nDa
 te: Sunday 28 October 2018&nbsp\; &nbsp\; &nbsp\; &nbsp\;Time: 2pm to 4pmL
 ocation: St Pius Church (Community Hall)\, 419 Waterdale Road\, Heidelberg
  West VIC 3081\nBanyule faith group representatives will describe how they
  serve the community\, followed by discussion groups considering Is there 
 a responsibility for faith groups to serve? And How can this best be done?
 \nFor more information\, please email: banyuleinterfaithnetwork@gmail.com 
 https://faithvictoria.org.au/upcoming-events/event/1488-faith-in-action-ba
 nyule-interfaith-network
DTSTART:20181028T140000Z
DTEND:20181028T160000Z
LOCATION:St Pius Church (Community Hall)\, 419 Waterdale Road\, Heidelberg 
 West VIC 3081 (419 Waterdale Rd\, Heidelberg West VIC 3081\, Australia)
SUMMARY:Faith in Action: Banyule Interfaith Network
URL:https://faithvictoria.org.au/upcoming-events/event/1488-faith-in-action
 -banyule-interfaith-network
END:VEVENT
END:VCALENDAR
