BEGIN:VCALENDAR
VERSION:2.0
PRODID:-//https://faithvictoria.org.au///NONSGML kigkonsult.se iCalcreator 2.10.15//
METHOD:PUBLISH
BEGIN:VEVENT
UID:20260422T205256UTC-8415vedd9t@https://faithvictoria.org.au/
DTSTAMP:20260422T205256Z
DESCRIPTION:Bayside Baha'i Community invites&nbsp\; you to:\nBicentenary of
  the birth of The Bab\nDate: Sunday 27 October 2019&nbsp\; &nbsp\; &nbsp\;
 Time: 3pm to 5pmLocation:&nbsp\;Meeting room\, Beaumaris Library\, 96 Rese
 rve Road\, Beaumaris 3193\nThe Bayside Baha'i Community warmly invites you
  to join us in celebrating the Bicentenary of the birth of The Bab\, the h
 erald of the Baha'i Faith.&nbsp\;\nRSVP:&nbsp\;6 October 2019 | Murray Dav
 ies 0419 180 799 | bayside@vic.bahai.org.au&nbsp\;For flyer\, please click
  here.&nbsp\; https://faithvictoria.org.au/upcoming-events/event/1591-bice
 ntenary-of-the-birth-of-the-bab-bayside-bahai-community
DTSTART:20191027T150000Z
DTEND:20191027T170000Z
LOCATION:Meeting room\, Beaumaris Library\, 96 Reserve Road\, Beaumaris 319
 3 (96 Reserve Rd\, Beaumaris VIC 3193\, Australia)
SUMMARY:Bicentenary of the birth of the Bab: Bayside Baha'i Community
URL:https://faithvictoria.org.au/upcoming-events/event/1591-bicentenary-of-
 the-birth-of-the-bab-bayside-bahai-community
END:VEVENT
BEGIN:VEVENT
UID:20260422T205256UTC-8423gubWMa@https://faithvictoria.org.au/
DTSTAMP:20260422T205256Z
DESCRIPTION:The&nbsp\;Mornington Peninsula Interfaith Network invites you t
 o:\nMovie Screening: The Gate\nDate: Sunday 27 October 2019&nbsp\; &nbsp\;
  &nbsp\; Time: 2:30pmLocation:&nbsp\;Bardon House Lecture Theatre\, Toorak
  College\, 73-93 Old Mornington Road\, Mt Eliza VIC 3930\nThe Mornington P
 eninsula and Frankston Baha’i Communities warmly invite you to a special v
 iewing of the movie “ The Gate” in commemoration of the birth of The Báb\,
  the Forerunner and Herald of the Baha’i Faith .\nRSVP:&nbsp\;15 October 2
 019 |&nbsp\;0449 682 036&nbsp\;|&nbsp\;morningtonpeninsula@vic.bahai.org.a
 uFor flyer\, click here. https://faithvictoria.org.au/upcoming-events/even
 t/1643-movie-screening-mornington-peninsula-interfaith-network
DTSTART:20191027T143000Z
DTEND:20191027T170000Z
LOCATION:Bardon House Lecture Theatre\, Toorak College\, 73-93 Old Morningt
 on Road\, Mt Eliza VIC 3930 (73-93 Old Mornington Road\, Mt Eliza\, VIC 39
 30)
SUMMARY:Movie Screening: Mornington Peninsula Interfaith Network 
URL:https://faithvictoria.org.au/upcoming-events/event/1643-movie-screening
 -mornington-peninsula-interfaith-network
END:VEVENT
END:VCALENDAR
