BEGIN:VCALENDAR
VERSION:2.0
PRODID:-//https://faithvictoria.org.au///NONSGML kigkonsult.se iCalcreator 2.10.15//
METHOD:PUBLISH
BEGIN:VEVENT
UID:20260422T191037UTC-4561ECGPAP@https://faithvictoria.org.au/
DTSTAMP:20260422T191037Z
DESCRIPTION:Bendigo Interfaith Council invites you to:\nTour to Places of W
 orship\nDate: Saturday 26 October 2019&nbsp\; &nbsp\; &nbsp\; Time: 9am to
  5:30pmPick-up and drop-off location: YMCA Stadium\, 47 Mundy Street\, Ben
 digo VIC 3550\nThe tour will visit:\n\nSt George's Coptic orthodox Church 
 | St Albans\nAustralian Islamic Centre | Newport\n\nBetween venues\, the t
 our will stop for a BYO picnic lunch in the Newport Lakes Reserve.\nContac
 t: Judy Causon | (03) 5443 5909 | 0417 435 909 | rcauson@bigpond.net.au&nb
 sp\;For flyer\, click here.&nbsp\; https://faithvictoria.org.au/upcoming-e
 vents/event/1636-tour-to-places-of-worship-bendigo-interfaith-council
DTSTART:20191026T090000Z
DTEND:20191026T173000Z
LOCATION:YMCA Stadium\, 47 Mundy Street\, Bendigo 3550 (47 Mundy St\, Bendi
 go VIC 3550\, Australia)
SUMMARY:Tour to Places of Worship: Bendigo Interfaith Council
URL:https://faithvictoria.org.au/upcoming-events/event/1636-tour-to-places-
 of-worship-bendigo-interfaith-council
END:VEVENT
BEGIN:VEVENT
UID:20260422T191037UTC-4574vjX2kZ@https://faithvictoria.org.au/
DTSTAMP:20260422T191037Z
DESCRIPTION:Monash Interfaith Gathering invites you to\n Walk Together Eat 
 Together \nDate: Saturday 26 October 2019&nbsp\; &nbsp\; &nbsp\; Time: 11:
 30am to 2:30pmLocation: Oaks Picnic Area\, Jells Park\, Wheelers Hill VIC 
 3150Enter via Ferntree Gully Road Entrance to the park and Drive to the Pl
 ay grounds.\n&nbsp\;The Monash Interfaith Gathering is hosting a the event
  as part of National Unity Week&nbsp\;(26 October – 2 November 2019) and e
 veryone is welcome.\nThis initiative is one of many events taking place du
 ring the week-long celebration of Australia’s cultural diversity&nbsp\;tha
 t encourages all Australians to join together to welcome our new neighbour
 s and build cultural understanding.\nFollowing our walk together we will e
 njoy a picnic. Please bring a plate of food to share.\nContact: Kamla&nbsp
 \;| 0402 436 849For flyer\, click here.&nbsp\; https://faithvictoria.org.a
 u/upcoming-events/event/1641-walking-together-eat-together-monash-interfai
 th-gathering
DTSTART:20191026T113000Z
DTEND:20191026T143000Z
LOCATION:Jells Park\, Waverly Road\, Wheelers Hill VIC 3150 (3 Jells Rd\, W
 heelers Hill VIC 3150\, Australia)
SUMMARY:Walking Together Eat Together: Monash Interfaith Gathering
URL:https://faithvictoria.org.au/upcoming-events/event/1641-walking-togethe
 r-eat-together-monash-interfaith-gathering
END:VEVENT
END:VCALENDAR
