BEGIN:VCALENDAR
VERSION:2.0
PRODID:-//https://faithvictoria.org.au///NONSGML kigkonsult.se iCalcreator 2.10.15//
METHOD:PUBLISH
BEGIN:VEVENT
UID:20260424T154612UTC-1329zCwoVc@https://faithvictoria.org.au/
DTSTAMP:20260424T154612Z
DESCRIPTION:\nHoly Day: Simchat TorahDate: Friday 25 October 2024 * Faith: 
 Judaism\nDescription: Simchat Torah is a joyous festival in which the annu
 al cycle of reading the Torah is over\, and the cycle begins again for the
  year. The celebration typically includes singing\, dancing\, and marching
  with Torah scrolls.&nbsp\;\n* Begins at sundown on the previous day liste
 d https://faithvictoria.org.au/upcoming-events/event/2091-simchat-torah-ju
 daism
DTSTART;VALUE=DATE:20241025
LOCATION:RSEvents!Pro Location (Colorado\, USA)
SUMMARY:Simchat Torah | Judaism 	
URL:https://faithvictoria.org.au/upcoming-events/event/2091-simchat-torah-j
 udaism
END:VEVENT
END:VCALENDAR
