BEGIN:VCALENDAR
VERSION:2.0
PRODID:-//https://faithvictoria.org.au///NONSGML kigkonsult.se iCalcreator 2.10.15//
METHOD:PUBLISH
BEGIN:VEVENT
UID:20260422T155557UTC-8529RSWsju@https://faithvictoria.org.au/
DTSTAMP:20260422T155557Z
DESCRIPTION:SalamFest and Muslim Collective invite you to:\nSalamFeast\nDat
 e: Thursday 25 October 2018&nbsp\; &nbsp\; &nbsp\; &nbsp\;Time: 6pm to 10:
 30pmLocation:&nbsp\;Kensington Town Hall\, 30-34 Bellair St\, Melbourne\, 
 Victoria\, 3031\nWelcome to SalamFeast: Building bridges by breaking bread
  together 2018.\nJoin us for a unique community dinner on 25 October 2018 
 at the majestic Kensington Town Hall.\n180 people will enjoy a lavish feas
 t showcasing cuisine from East Africa\, Indonesia and more. The dishes wil
 l be accompanied by a story\, or a take home recipe\, and there will be op
 portunities to meet and mingle with Muslims from these regions.\nWith a po
 pulation of over 200\,000 people\, the Muslim community of Melbourne is ma
 de up of over 70 ethnically and linguistically diverse groups.\nSalamFeast
  aims to spark friendship and conversation that will celebrate culture thr
 ough a culinary experience like no other.\nJoin us for a memorable night t
 o immerse in evocative cultural performance\, experience and the joy of sh
 aring food.\nFor cost and registration\, please click here.&nbsp\; https:/
 /faithvictoria.org.au/upcoming-events/event/1486-salamfeast-dinner-salamfe
 st
DTSTART:20181025T180000Z
DTEND:20181025T223000Z
LOCATION:Kensington Town Hall\, 30-34 Bellair St\, Melbourne\, Victoria\, 3
 031 (30-34 Bellair St\, Kensington VIC 3031\, Australia)
SUMMARY:SalamFeast Dinner: SalamFest
URL:https://faithvictoria.org.au/upcoming-events/event/1486-salamfeast-dinn
 er-salamfest
END:VEVENT
END:VCALENDAR
