BEGIN:VCALENDAR
VERSION:2.0
PRODID:-//https://faithvictoria.org.au///NONSGML kigkonsult.se iCalcreator 2.10.15//
METHOD:PUBLISH
BEGIN:VEVENT
UID:20260424T121327UTC-345013fDw8@https://faithvictoria.org.au/
DTSTAMP:20260424T121327Z
DESCRIPTION:Holy Day: Shemini AtzeretDate: Thursday 24 October 2024 *Religi
 on: Judaism\nDescription: Literally the “8th day of assembly\,” this holid
 ay marks the end of Sukkot with an annual prayer for rain.\n* Begins at su
 ndown on the previous day listed https://faithvictoria.org.au/upcoming-eve
 nts/event/2092-shemini-atzeret-judaism
DTSTART;VALUE=DATE:20241024
LOCATION:RSEvents!Pro Location (Colorado\, USA)
SUMMARY:Shemini Atzeret | Judaism
URL:https://faithvictoria.org.au/upcoming-events/event/2092-shemini-atzeret
 -judaism
END:VEVENT
END:VCALENDAR
