BEGIN:VCALENDAR
VERSION:2.0
PRODID:-//https://faithvictoria.org.au///NONSGML kigkonsult.se iCalcreator 2.10.15//
METHOD:PUBLISH
BEGIN:VEVENT
UID:20260422T140335UTC-0502fUP3rF@https://faithvictoria.org.au/
DTSTAMP:20260422T140335Z
DESCRIPTION:Wyndham Interfaith Network invites you to:\nMultifaith Dinner 2
 019\nDate: Wednesday 23 October 2019&nbsp\; &nbsp\; &nbsp\; &nbsp\; Time: 
 6:15pm for 6:30pm startLocation:&nbsp\;Encore Events Centre\, 80 Derrimut 
 Road\, Hoppers Crossing VIC 3029\nKeynote speaker: Bishop Philip Huggins\n
 More about the speaker:&nbsp\;Philip Huggins is the current chair of the N
 ational Council of Churches and Director for Ecumenical Studies at the Aus
 tralian Centre for Christianity and Culture Chair of the Anglican Diocese 
 Social Responsibility Committee and Multi-Cultural Ministry Committee. Phi
 lip is amember of the Victorian Governments Multi Faith AdvisoryBoard and 
 is a former Chair of the Brotherhood of St Laurence.\nFeaturing Dr Jonatho
 n Welch AM with the Peace Choir\nCost: $25 |&nbsp\;RSVP: 16 October 2019Co
 ntact:&nbsp\;rsvp@wyndhamcec.org.au&nbsp\;| (03) 9742 4013 | For online bo
 oking\, click here.&nbsp\;\nTicket quantity is limited and will only be av
 ailable until sold outThis is an alcohol free event All meals are vegetari
 an.\nThis event is sponsored and supported by Victorian Multicultural Comm
 ission\, Wydhman Community and Education Centre\, Wyndham City Council and
  the State Government of Victoria https://faithvictoria.org.au/upcoming-ev
 ents/event/1631-multifaith-dinner-2019-wyndham-interfaith-network
DTSTART:20191023T181500Z
DTEND:20191023T203000Z
LOCATION:Encore Events Centre\, 80 Derrimut Road\, Hoppers Crossing VIC 302
 9 (80 Derrimut Rd\, Hoppers Crossing VIC 3029\, Australia)
SUMMARY:Multifaith Dinner 2019: Wyndham Interfaith Network
URL:https://faithvictoria.org.au/upcoming-events/event/1631-multifaith-dinn
 er-2019-wyndham-interfaith-network
END:VEVENT
END:VCALENDAR
