BEGIN:VCALENDAR
VERSION:2.0
PRODID:-//https://faithvictoria.org.au///NONSGML kigkonsult.se iCalcreator 2.10.15//
METHOD:PUBLISH
BEGIN:VEVENT
UID:20260421T205259UTC-7443371baw@https://faithvictoria.org.au/
DTSTAMP:20260421T205259Z
DESCRIPTION:The Jewish Christian Muslim Association of Australia invite you
  to:\nUnderstanding &amp\; Interpreting Sacred Texts | Perspectives from t
 he Three Abrahamic Faiths\nDate: Thursday 8\, 15 and 22 October 2020&nbsp\
 ; &nbsp\; Time: 7pm to 8:30pmLocation: Online\nJoin us at the Jewish Chris
 tian Muslim Association of Australia (JCMA) in a free on line event series
 :' ‘Understanding and Interpreting Sacred Texts - Perspectives From The Th
 ree Abrahamic Faiths' featuring:\n\nRabbi Fred Morgan\nAssociate Prof. Ada
 m Cooper&nbsp\;\nSheikh Alaa El Zokm\n\nAs a series of three Thursday even
 ing sessions\, each session will focus on one faith tradition with the spe
 aker offering an approach to reading and interpreting their sacred texts f
 ollowed by Q&amp\;A.\nThe aim is to deepen our knowledge and appreciation 
 of the Jewish\, Christian and Muslim texts so we gain more of an understan
 ding of the connection with people from the Abrahamic faiths and can engag
 e more fully in dialogue with each other.\nProgram\n\nSession 1 – Jewish T
 radition • Rabbi Fred Morgan\, 8th October\nSession 2 – Christian Traditio
 n • Associate Prof. Adam Cooper\, 15th October\nSession 3 – Muslim Traditi
 on • Sheikh Alaa El Zokm\, 22nd October\n\nCost: FreeRegistration: Eventbr
 ite link&nbsp\;| All those who register will be emailed further details an
 d Zoom link nearer the time of the event.\nWe ask all participants review 
 the JCMA Principles of Dialogue by visiting this link Priniciples of dialo
 gue. For more information on speakers click here: Speaker Profiles. We loo
 k forward to your participation.\nFurther Information: Contact Ginette on 
 0400 211 221 |&nbsp\;executiveofficer@jcma.org.auFacebook: http://facebook
 .com/jcmaonline Twitter: twitter.com/jcmaoz&nbsp\; Website: http://jcma.or
 g.au https://faithvictoria.org.au/upcoming-events/event/1723-understanding
 -interpreting-sacred-texts-jewish-christian-muslim-association-of-australi
 a
DTSTART:20201022T190000Z
DTEND:20201022T193000Z
LOCATION:Melbourne VIC 3000 (Melbourne VIC\, Australia)
SUMMARY:Understanding & Interpreting Sacred Texts: Jewish Christian Muslim 
 Association of Australia
URL:https://faithvictoria.org.au/upcoming-events/event/1723-understanding-i
 nterpreting-sacred-texts-jewish-christian-muslim-association-of-australia
END:VEVENT
END:VCALENDAR
