BEGIN:VCALENDAR
VERSION:2.0
PRODID:-//https://faithvictoria.org.au///NONSGML kigkonsult.se iCalcreator 2.10.15//
METHOD:PUBLISH
BEGIN:VEVENT
UID:20260422T092525UTC-5584vp61Bv@https://faithvictoria.org.au/
DTSTAMP:20260422T092525Z
DESCRIPTION:The Jewish Christian Muslim Association of Australia (JCMA) wou
 ld like to invite you to:\nJCMA Friendship Walk 2018\nDate:&nbsp\;Sunday 2
 1 October 2018&nbsp\;&nbsp\;&nbsp\;&nbsp\;&nbsp\;&nbsp\;&nbsp\;Time:&nbsp\
 ;1:15pm to 5:00pmLocation:&nbsp\;Starting point: Australian Albanian Islam
 ic Society - 765 Drummond Street\, Carlton North [google maps:&nbsp\;http:
 //bit.ly/1KbPHwz]\nCome along on Sunday 21st October and spend an afternoo
 n walking together in friendship and goodwill between a mosque\, synagogue
  and a church.\nStarting at the Albanian Australian Islamic Society Mosque
  in Carlton North we will walk together to the Church of All Nations\, fol
 lowed by the East Melbourne Hebrew Congregation Synagogue\, walking across
  to St Peters Eastern Hill Anglican Church Community Hall where tea and re
 freshments will be provided. We will start with a prayer of peace and refl
 ections and then learn about some of the history and traditions of each of
  the places we visit.\nMeeting Place &amp\; Planned Walking Route\n\n&nbsp
 \;1.15pm - Albanian Australian Islamic Society Mosque | Please arrive for 
 registration and 1:30pm start ||&nbsp\;765 Drummond St.\, Carlton North VI
 C 3054\, google maps&nbsp\;http://bit.ly/1KbPHwz\n&nbsp\;2.30pm - Church o
 f All Nations | 180 Palmerston St.\, Carlton VIC 3053\, goole maps&nbsp\;h
 ttps://goo.gl/MmcnXC\n&nbsp\;3:40pm - East Melbourne Hebrew Congregation S
 ynagogue |&nbsp\;488 Albert street\, East Melbourne\, google maps:&nbsp\;h
 ttp://bit.ly/2delE0D\n&nbsp\;4:10pm &ndash\; St Peters Eastern Hill Anglic
 an Church Community Hall |15 Gisborne Street (corner of Albert Street) Eas
 t Melbourne\, google maps:&nbsp\;http://bit.ly/1O4w0xEJoin us for tea and 
 refreshments at the Community Hall.\n\nRSVP\, Registration and Information
 \nTo register go to Eventbrite: https://jcmafw18.eventbrite.com.au&nbsp\;M
 ore information:&nbsp\;Ginette Everest | (03) 9287 5590 | 0400 211 221&nbs
 p\;|&nbsp\;executiveofficer@jcma.org.au\nFacebook page&nbsp\;https://www.f
 acebook.com/jcmaonline&nbsp\;and Twitter&nbsp\;http://twitter.com/jcmaoz&n
 bsp\;to invite others to join us in walking together in friendship and pea
 ce. #JCMAwalk\, #JCMAfriendship\nDonations\nJCMA is a not-for-profit organ
 isation and donations go directly towards delivery of our many events\, fo
 rums and conferences and to support our workshop programs in primary and s
 econdary schools. If you would like to make a donation to help support the
  work of JCMA please go to our website&nbsp\;http://jcma.org.au/donation.&
 nbsp\;As a listed harm prevention charity we have DGR (Deductible Gift Rec
 eipt) status. Your donations are tax-deductible (donations over $2 are tax
 -deductible).\nJCMA SupportersProudly supported by the Islamic Council of 
 Victoria\, Victorian Council of Churches and Jewish Community Council of V
 ictoria. https://faithvictoria.org.au/upcoming-events/event/1479-jcma-frie
 ndship-walk-2018-jewish-christian-muslim-association-of-australia
DTSTART:20181021T131500Z
DTEND:20181021T170000Z
LOCATION:Australian Albanian Islamic Society - 765 Drummond Street\, Carlto
 n North 3054 (765 Drummond St\, Carlton North VIC 3054\, Australia)
SUMMARY:JCMA Friendship Walk 2018: Jewish Christian Muslim Association of A
 ustralia 
URL:https://faithvictoria.org.au/upcoming-events/event/1479-jcma-friendship
 -walk-2018-jewish-christian-muslim-association-of-australia
END:VEVENT
BEGIN:VEVENT
UID:20260422T092525UTC-56015GjCxr@https://faithvictoria.org.au/
DTSTAMP:20260422T092525Z
DESCRIPTION:WE ARE THE WORLD! Bring a Bell! Concert\nDate: Sunday 21 Octobe
 r 2018&nbsp\; &nbsp\; &nbsp\;Time: 7:30pm to 9:30pmLocation: Melbourne Tow
 n Hall\,&nbsp\;Corner of Swanston Street &amp\; Collins Street Melbourne\n
 The WE ARE THE WORLD! Bring a Bell! Concert is in preparations for Sunday\
 , the 21st October 7.30 PM\, aiming to present in a 2 hour program&nbsp\; 
 a broad selection of musical and dance styles from City of Melbourne&rsquo
 \;s cultural heritage\, which is also a world music repertoire.\nLeading e
 xponents of their art from 20 communities\, professional musicians\, choir
 s\, vocalists\, instrumentalists and the Grand Organ\, present the program
  as one music\, first time ever ringing Melbourne&rsquo\;s famous Federati
 on hand-held bells from each performer&rsquo\;s segment to the next\, crea
 ting a seamless flow of sound. 120 performers and audience join in bell ri
 nging\, creating a powerful spirit of unity and togetherness\, celebrating
  the beauty of our diversity\, as one community\, as one world&hellip\;\nE
 specially designed for family viewing also by members of orthodox faith co
 mmunities\, the performance standards of these traditions are respected th
 roughout the entire program. All are welcome to come along and to bring a 
 bell!\nThis concert is recommended as an educational tool for harmony and 
 inclusiveness.\nMore information will be available on Tuesday 2nd October 
 A.H on:&nbsp\;http://www.livetraditions.net \n https://faithvictoria.org.a
 u/upcoming-events/event/1480-we-are-the-world-bring-a-bell-concert
DTSTART:20181021T193000Z
DTEND:20181021T213000Z
LOCATION:Melbourne Town Hall\, Corner of Swanston Street & Collins Street M
 elbourne (Melbourne Town Hall\, Corner of Swanston Street & Collins Street
  Melbourne)
SUMMARY:WE ARE THE WORLD! Bring a Bell! Concert
URL:https://faithvictoria.org.au/upcoming-events/event/1480-we-are-the-worl
 d-bring-a-bell-concert
END:VEVENT
END:VCALENDAR
