BEGIN:VCALENDAR
VERSION:2.0
PRODID:-//https://faithvictoria.org.au///NONSGML kigkonsult.se iCalcreator 2.10.15//
METHOD:PUBLISH
BEGIN:VEVENT
UID:20260422T140253UTC-0940jsWu1R@https://faithvictoria.org.au/
DTSTAMP:20260422T140253Z
DESCRIPTION:\nHoly Day: Conferment of Guruship to Guru Granth SahibDate: Su
 nday 20 October 2024Faith: Sikhism\nDescription: This day celebrates Guru 
 Gobind Singh Ji's (10th Guru) passing on guruship to the holy scriptures\,
  henceforth known as the Guru Granth Sahib. The Guru Granth Sahib\, compri
 sing of 1430 pages of hymns\, presides the most prominent place and shines
  the light of Truth to all Sikhs or devotees who seek it.\n(Celebrated on 
 6th November in amended Nanakshahi calendar] https://faithvictoria.org.au/
 upcoming-events/event/2103-conferment-of-guruship-to-guru-granth-sahib-sik
 hism
DTSTART;VALUE=DATE:20241020
LOCATION:RSEvents!Pro Location (Colorado\, USA)
SUMMARY:Conferment of Guruship to Guru Granth Sahib | Sikhism 	
URL:https://faithvictoria.org.au/upcoming-events/event/2103-conferment-of-g
 uruship-to-guru-granth-sahib-sikhism
END:VEVENT
END:VCALENDAR
