BEGIN:VCALENDAR
VERSION:2.0
PRODID:-//https://faithvictoria.org.au///NONSGML kigkonsult.se iCalcreator 2.10.15//
METHOD:PUBLISH
BEGIN:VEVENT
UID:20260420T092310UTC-9460T9rdc6@https://faithvictoria.org.au/
DTSTAMP:20260420T092310Z
DESCRIPTION:The Ballarat Interfaith Network invites you to:\nFriendship Wal
 k 2019\nDate:&nbsp\;Sunday 20 October 2019&nbsp\; &nbsp\; &nbsp\;&nbsp\;Ti
 me:&nbsp\;2pm to 5pmLocation: Central Uniting Church\, 103 Lydiard Street 
 South\, Ballarat VIC 3350\nCome along and spend an afternoon walking toget
 her in friendship and goodwill between Ballarat's Central Uniting Church\,
  Jewish&nbsp\;Synagogue and Islamic Mosque.\nBeginning at Central Uniting 
 Church\, 103 Lydiard Street South\, walking together to the Ballarat Hebre
 w Congregation's Synagogue\, Cnr Princes St and Barkly St South\, BAkery H
 ill\, and concluding at the Islamic Mosque\, 116 Elsworth St East\, Canadi
 an.\nWater will be available en-route. Refreshments will be served at the 
 Mosque at the walk's conclusion.\nMeeting Place &amp\; Planned Walking Rou
 te:\n2.00pm – Central Uniting Church3:00pm – Hebrew Congregation Synagogue
 4.30pm –&nbsp\;Mosque\nFor catering purposes\, please register your attend
 anceFor registration\, please click&nbsp\;here&nbsp\;or contact Elham | 04
 11 493 327\nThis event is being organised in partnership with Melbourne Je
 wish Christian Muslim Association (JCMA) and sponsored by Ballarat Regiona
 l Multicultural Council (BRMC)\, City of Ballarat\, Victorian Multicultura
 l Commission\, State of Victoria. https://faithvictoria.org.au/upcoming-ev
 ents/event/1624-jcma-friendship-walk-ballarat-interfaith-network
DTSTART:20191020T140000Z
DTEND:20191020T173000Z
LOCATION:Central Uniting Church\, 103 Lydiard Street South\, Ballarat VIC 3
 350 (103 Lydiard St S\, Ballarat Central VIC 3350\, Australia)
SUMMARY:JCMA Friendship Walk: Ballarat Interfaith Network
URL:https://faithvictoria.org.au/upcoming-events/event/1624-jcma-friendship
 -walk-ballarat-interfaith-network
END:VEVENT
END:VCALENDAR
