BEGIN:VCALENDAR
VERSION:2.0
PRODID:-//https://faithvictoria.org.au///NONSGML kigkonsult.se iCalcreator 2.10.15//
METHOD:PUBLISH
BEGIN:VEVENT
UID:20260420T074637UTC-0676ZVfU2k@https://faithvictoria.org.au/
DTSTAMP:20260420T074637Z
DESCRIPTION:Maroondah Interfaith Network invites you to:\nIn Pursuit of Hap
 piness Seminar Series: What Makes Life Happy?\nDate: Saturday 19 October 2
 019&nbsp\; &nbsp\; &nbsp\;Time: 3pm to 5pmLocation:&nbsp\;Janssen Spiritua
 lity Centre\, 22 Woodvale Road\, Boronia VIC 3155\nWhile our backgrounds m
 ay be very different\, there are common goals for all human beings. We wan
 t a life that is happy. We want to live in a society which is peaceful and
  harmonious.The aim of these seminars is to explore what our different tra
 ditions and what science tells us as a basis for thinking through how to l
 ive a happy and fulfilling life. We will seek to find what is common and u
 nderstand our differences.\nAustralians see family\, friends and fun as th
 e essence of happiness\, along with being able to buy what they want to bu
 y. The means to happiness is a good job which pays well and is interesting
 . But is true happiness more than this?\nPanel members include:\n\nDamian 
 Gauci (Chan Buddhist tradition)\nRev Lucas Taylor (Ringwood Uniting Church
 )\nMary Dewberry (psychologist)\nSwami Sunishthananda (Vedanta Hindu Centr
 e)\n\nFollowing brief presentations from the panel members and discussion 
 with them\, there will be group discussion.\nCost: Free |&nbsp\;To registe
 r\, click hereFor more information\, contact:&nbsp\;Prof. Philip Hughes |&
 nbsp\;maroondahinterfaith@gmail.com&nbsp\;|&nbsp\;www.maroondahinterfaith.
 org.au&nbsp\;\nThis series of seminars is organised by the Maroondah Inter
 faith Network in conjunction with the Karuna Project.&nbsp\;The Karuna Pro
 ject is an interfaith project to grow an unconditional love centre where a
 ll are welcome\, whatever their spiritual perspective.&nbsp\;(Karuna is a 
 Sanskrit word for compassion).\nThe seminar series has been made possible 
 by a grant from the Maroondah City Council\n&nbsp\; https://faithvictoria.
 org.au/upcoming-events/event/1627-in-pursuit-of-happiness-seminar-series-w
 hat-makes-life-happy-maroondah-interfaith-network
DTSTART:20191019T150000Z
DTEND:20191019T170000Z
LOCATION:Janssen Spirituality Centre\, 22 Woodvale Road\, Boronia VIC 3155 
 (22 Woodvale Rd\, Boronia VIC 3155\, Australia)
SUMMARY:In Pursuit of Happiness Seminar Series: What Makes Life Happy? | Ma
 roondah Interfaith Network
URL:https://faithvictoria.org.au/upcoming-events/event/1627-in-pursuit-of-h
 appiness-seminar-series-what-makes-life-happy-maroondah-interfaith-network
END:VEVENT
BEGIN:VEVENT
UID:20260420T074637UTC-0684pgiuGv@https://faithvictoria.org.au/
DTSTAMP:20260420T074637Z
DESCRIPTION:Sikh Volunteers Australia invites you to:\nSeminar on concept o
 f Share and CareParkash Gurpurab (Birth Anniversary) of Guru Nanak Dev Ji 
 \nDate: Saturday 19 October 2019&nbsp\; &nbsp\; &nbsp\;Time: 1pm to 2:30pm
 Location: Function Hall\, Bunjil Place\, Narre Warren VIC 3805\nThe theme 
 of the&nbsp\;Seminar is Share and Care. The event will emphasize the impor
 tance of cooperation\, Multiculturalism and support for the people in need
 . The event will be attended by Local MP\, Casey councillors\, Council sta
 ff and representatives of other organisations working in southeast Melbour
 ne for likewise purpose.\n\n\nGuest speakers on the day:\n\n\nTim Costello
  (Australian Baptist Minister and current chief advocate of World Vision A
 ustralia)\nPhilip Rosie from Victoria council of churches\nJasbir Singh Su
 ropada (Sikh Interfaith Council of Victoria)\n\n\n\nSikh Volunteers is pro
 viding free vegetarian food to homeless and needy people and community wel
 fare events since 2017. Come along with family and friends and enjoy the f
 ree vegetarian food.&nbsp\;\nRSVP: 20 September 2019 | sikhvolunteers.aust
 ralia@yahoo.com.au&nbsp\;| www.sikhvolunteersaustralia.org&nbsp\;Contact: 
 Jaswinder Singh 0497 325 010 | Lakhwinder Singh | 0433 029 912\n&nbsp\; ht
 tps://faithvictoria.org.au/upcoming-events/event/1635-share-and-care-sikh-
 volunteers-australia
DTSTART:20191019T130000Z
DTEND:20191019T143000Z
LOCATION:Casey Council Magid Drive\, Narre Warren\, Vic 3805 (off Princes H
 ighway\, near Fountain Gate Shopping Centre) (Casey Council Magid Drive\, 
 Narre Warren\, Vic 3805 (off Princes Highway\, near Fountain Gate Shopping
  Centre))
SUMMARY:Share and Care: Sikh Volunteers Australia
URL:https://faithvictoria.org.au/upcoming-events/event/1635-share-and-care-
 sikh-volunteers-australia
END:VEVENT
END:VCALENDAR
