BEGIN:VCALENDAR
VERSION:2.0
PRODID:-//https://faithvictoria.org.au///NONSGML kigkonsult.se iCalcreator 2.10.15//
METHOD:PUBLISH
BEGIN:VEVENT
UID:20260422T034829UTC-7510dTB28g@https://faithvictoria.org.au/
DTSTAMP:20260422T034829Z
DESCRIPTION:The Council of Christians and Jews (Vic) Inc invites you to:\nT
 he Annual Sr Shirley Sedawie Oration\nDate: Sunday 18 October 2020&nbsp\; 
 &nbsp\; &nbsp\;Time: 4pm to 5:30pmLocation: Online\nGuest speaker: Dr Debb
 ie Weissman\nAfter moving to Jerusalem in 1972\, Dr Debbie Weissman taught
  Jewish education and women's studie at the Hebrew University\, and was al
 so the director of the Kerem Institute\, a teacher training institute for 
 Israeli high school teachers. Her PhD in Jewish Education is on the social
  history of Jewish women's education. She was president of the Internation
 al Council of Christiand and Jews from 2008 to 2014\, the first Jewish wom
 an (and only the second woman at all) to have served in that position in w
 ell over 50 years. She is a long-time friend of the Sisters of Our Lardy o
 f Sion and the author of Memoirs of a Hopeful Pessimist: A Life of Activis
 m Through Dialogue (KTAV Publishing\, 2017).&nbsp\;\nThe Oration will be d
 elivered online live from Jerusalem.&nbsp\; https://faithvictoria.org.au/u
 pcoming-events/event/1713-the-annual-sr-shirley-sedawie-oration-the-counci
 l-of-the-christians-and-jews-vic-inc
DTSTART:20201018T160000Z
DTEND:20201018T173000Z
LOCATION:Melbourne VIC 3000 (Melbourne VIC\, Australia)
SUMMARY:The Annual Sr Shirley Sedawie Oration: The Council of the Christian
 s and Jews (Vic) Inc
URL:https://faithvictoria.org.au/upcoming-events/event/1713-the-annual-sr-s
 hirley-sedawie-oration-the-council-of-the-christians-and-jews-vic-inc
END:VEVENT
BEGIN:VEVENT
UID:20260422T034829UTC-7529J1IRc5@https://faithvictoria.org.au/
DTSTAMP:20260422T034829Z
DESCRIPTION:The Religions for Peace Australia invites you to\nInterfaith Pr
 ayers for Australia\nDate: Sunday 28 October 2020&nbsp\; &nbsp\; &nbsp\;Ti
 me: 5pmLocation: Online (link we will be provided prior to the event)\nRel
 igious leaders from many faiths will be presenting prayers. All are welcom
 e to attend. A zoom link will be posted on this website prior to this even
 t.\nAll are welcome and join in the prayers for the welfare of our nation.
 \nLink to event will be available here closer the date.&nbsp\; https://fai
 thvictoria.org.au/upcoming-events/event/1728-interfaith-prayers-for-austra
 lia-religions-for-peace
DTSTART:20201018T170000Z
DTEND:20201018T180000Z
LOCATION:Melbourne VIC 3000 (Melbourne VIC\, Australia)
SUMMARY:Interfaith Prayers for Australia: Religions for Peace
URL:https://faithvictoria.org.au/upcoming-events/event/1728-interfaith-pray
 ers-for-australia-religions-for-peace
END:VEVENT
END:VCALENDAR
