BEGIN:VCALENDAR
VERSION:2.0
PRODID:-//https://faithvictoria.org.au///NONSGML kigkonsult.se iCalcreator 2.10.15//
METHOD:PUBLISH
BEGIN:VEVENT
UID:20260420T091938UTC-9667pfMKzk@https://faithvictoria.org.au/
DTSTAMP:20260420T091938Z
DESCRIPTION:\nHoly Day: KathinaDate: Thursday 17 October 2024Religion: Budd
 hism\nDescription: Kathina is a Theravadan Buddhist festival which comes a
 t the end of Vassa\, the three-month rainy season retreat. It is a time of
  giving where the laity express gratitude to the monks and nuns by offerin
 g them new robes and other necessities. Also\, a time for Buddhists to giv
 e money to the poor or needy\, called giving alms. https://faithvictoria.o
 rg.au/upcoming-events/event/2037-kathina-buddhism
DTSTART;VALUE=DATE:20241017
LOCATION:RSEvents!Pro Location (Colorado\, USA)
SUMMARY:Kathina | Buddhism
URL:https://faithvictoria.org.au/upcoming-events/event/2037-kathina-buddhis
 m
END:VEVENT
END:VCALENDAR
