BEGIN:VCALENDAR
VERSION:2.0
PRODID:-//https://faithvictoria.org.au///NONSGML kigkonsult.se iCalcreator 2.10.15//
METHOD:PUBLISH
BEGIN:VEVENT
UID:20260422T053047UTC-5838TTU4Il@https://faithvictoria.org.au/
DTSTAMP:20260422T053047Z
DESCRIPTION:Maroondah Interfaith Network invites you to:\nBuilding Bonding 
 Community | Building Community seminar series\nDate: Saturday 17 October 2
 020&nbsp\; &nbsp\; &nbsp\; Time: 3pm to 5pmLocation: Online\nAs we reconst
 ruct our communities following the COVID-19 crisis\, we must reflect on wh
 at sort of community we want to build. These&nbsp\;seminars will help us i
 n this process.&nbsp\;\nIt will be addressing how we build those bonding r
 elationships with family and close friends which are the essence of suppor
 tive community life.\nIn each seminar four speakers from different traditi
 ons and contexts will speak to the topic\, followed by discussion. The spe
 akers will include:\n\nChang Ji Fa Shi (Chen Buddhist)\nAssoc/Prof Bob Dix
 on (former director of the Catholic Pastoral Research Office)\nPs Scott Ha
 wkins (Urban Life\, Ringwood)\nRev Glenn Loughrey (National Aboriginal Tor
 res Strait Islander Anglican Commission and vicar St Oswald’s\, Glen Waver
 ley)\nSwami Sunishthananda (Vedanta Hindu Centre\n\nThrough these seminars
  we will seek to find what is common between our different traditions and 
 backgrounds and understand our differences.\nBuilding Bonding Community\nB
 onds are the strong relationships between people through which people give
  and receive general support from each other. They transcend the various a
 spects of our lives and are essential for our physical and mental wellbein
 g. Such relationships occur in family life and in close friendships. This 
 seminar will explore the ways in which religious faith seeks to enhance th
 ese relationships.\nFor the link to join our Zoom discussion\, email the c
 hair of the Maroondah Interfaith Network: Prof Philip Hughes at maroondahi
 nterfaith@gmail.com\nThe seminar series has been made possible by a grant 
 from the Maroondah City Council. https://faithvictoria.org.au/upcoming-eve
 nts/event/1724-building-bonding-community-maroondah-interfaith-network
DTSTART:20201017T150000Z
DTEND:20201017T170000Z
LOCATION:Melbourne VIC 3000 (Melbourne VIC\, Australia)
SUMMARY:Building Bonding Community: Maroondah Interfaith Network
URL:https://faithvictoria.org.au/upcoming-events/event/1724-building-bondin
 g-community-maroondah-interfaith-network
END:VEVENT
END:VCALENDAR
