BEGIN:VCALENDAR
VERSION:2.0
PRODID:-//https://faithvictoria.org.au///NONSGML kigkonsult.se iCalcreator 2.10.15//
METHOD:PUBLISH
BEGIN:VEVENT
UID:20260420T040159UTC-061549sdbS@https://faithvictoria.org.au/
DTSTAMP:20260420T040159Z
DESCRIPTION:William Cooper's Legacy Project invites you to:\nMultifaith Suc
 cot Party\nDate: Thursday 17 October 2019&nbsp\; &nbsp\; &nbsp\;Time: 6pm 
 to 9pmLocation:&nbsp\;488 Albert Street\, East Melbourne VIC 3002\nPlease 
 join us for this Jewish sacred festival of Sukkot – Tabernacles – where Je
 ws traditionally eat and celebrate in specially-built booths for 7 days an
 d nights (a cubby-house with a roof made of palm fronds!)\nThis will be an
  amazing evening of music\, Kosher and Halal food\, informative conversati
 on with people from different backgrounds – Jews of every stripe\, along w
 ith youth and elders from the Aboriginal\, Muslim\, Sikh and Christian com
 munities\, mixing with people of other faiths or of no faith!\nSpread the 
 word - come along | Grassroots Dialogue\; World Peace\; A huge Sukkot Peac
 e Party.\nFor Facebook page\, click here.&nbsp\; https://faithvictoria.org
 .au/upcoming-events/event/1637-multifaith-succot-party-william-coopers-leg
 acy-project
DTSTART:20191017T180000Z
DTEND:20191017T210000Z
LOCATION:East Melbourne Hebrew Congregation - 488 Albert Street\, East Melb
 ourne VIC 3002 (488 Albert St\, East Melbourne VIC 3002\, Australia)
SUMMARY:Multifaith Succot Party: William Cooper's Legacy Project
URL:https://faithvictoria.org.au/upcoming-events/event/1637-multifaith-succ
 ot-party-william-coopers-legacy-project
END:VEVENT
END:VCALENDAR
