BEGIN:VCALENDAR
VERSION:2.0
PRODID:-//https://faithvictoria.org.au///NONSGML kigkonsult.se iCalcreator 2.10.15//
METHOD:PUBLISH
BEGIN:VEVENT
UID:20260422T003412UTC-2054gJ6onE@https://faithvictoria.org.au/
DTSTAMP:20260422T003412Z
DESCRIPTION:The Knox Inter-faith Network invites you to:\nTour to Places of
  Worship | Knox Seniors Festival\nDate: Tuesday 16 October 2018&nbsp\; &nb
 sp\; &nbsp\;Time: 10am to 2pmPick-up point:&nbsp\;Knox Civic Centre\, 511 
 Burwood Hwy\, Wantirna South VIC 3152\nLearn about other faiths. Discuss b
 el iefs and traditions. Appreciate the diverse&nbsp\;faiths that make up o
 ur community. Through knowledge\, understanding and&nbsp\;respect\, we can
  strengthen and bui ld on the r ich her itage everyone br ings to ourcommu
 nity.Cost: $5 per person |&nbsp\;&nbsp\;Includes tour \, transportation\, 
 morning tea and a light luncheon.&nbsp\; Strictly limited seats. Bookings 
 essential.Bookings: 03 9557 6713 |&nbsp\;tsa@templesociety.org.au\nThis ev
 ent is supported by Knox City Council\, Victorian Multicultural Commission
  and the State Government of Victoria. https://faithvictoria.org.au/upcomi
 ng-events/event/1412-tour-to-places-of-worship-knox-inter-faith-network
DTSTART:20181016T100000Z
DTEND:20181016T140000Z
LOCATION:Knox Civic Centre\, 511 Burwood Hwy\, Wantirna South VIC 3152 (511
  Burwood Hwy\, Wantirna South VIC 3152\, Australia)
SUMMARY:Tour to Places of Worship: Knox Inter-faith Network
URL:https://faithvictoria.org.au/upcoming-events/event/1412-tour-to-places-
 of-worship-knox-inter-faith-network
END:VEVENT
END:VCALENDAR
