BEGIN:VCALENDAR
VERSION:2.0
PRODID:-//https://faithvictoria.org.au///NONSGML kigkonsult.se iCalcreator 2.10.15//
METHOD:PUBLISH
BEGIN:VEVENT
UID:20260421T205412UTC-5417o457U6@https://faithvictoria.org.au/
DTSTAMP:20260421T205412Z
DESCRIPTION:The&nbsp\;Australian Religious Response to Climate Change\, Rel
 igions for Peace and the United Religions Initiative invite you to:\nLivin
 g the Change\nDate: Sunday 14 October 2018&nbsp\; &nbsp\; &nbsp\; Time: 2:
 30 to 5:15pmLocation: Multicultural Hub\,&nbsp\;506 Elizabeth Street\, Mel
 bourne VIC 3000\nJoin us to celebrate 'Living the Change' together: creati
 ng a flourishing world for all. We gather as members of diverse faith comm
 unities and those who care for our planet to share our stories of change\,
  transformation\, and regeneration. We tap into our deepest values to find
  the inspiration to address climate change and support each other in the j
 ourney. Join us for an afternoon of sustenance for the heart\, body and ea
 rth: music\, speakers and discussion\, culminating with delicious vegan fo
 od.&nbsp\;\nClick here for flyer.&nbsp\;\nBookings:&nbsp\;https://www.tryb
 ooking.com/XJOFCost: Free\, please book for catering numbers https://faith
 victoria.org.au/upcoming-events/event/1398-living-the-change-australian-re
 ligious-response-to-climate-change
DTSTART:20181014T143000Z
DTEND:20181014T171500Z
LOCATION:The Multicultural Hub\, 506 Elizabeth Street\, Melbourne (506 Eliz
 abeth St\, Melbourne VIC 3000\, Australia)
SUMMARY:Living the Change: Australian Religious Response to Climate Change
URL:https://faithvictoria.org.au/upcoming-events/event/1398-living-the-chan
 ge-australian-religious-response-to-climate-change
END:VEVENT
BEGIN:VEVENT
UID:20260421T205412UTC-5427hx7Vau@https://faithvictoria.org.au/
DTSTAMP:20260421T205412Z
DESCRIPTION:Hobsons Bay Interfaith Network invites you to\nSpring Lunch: Gr
 owing Together\nDate: Sunday 14 October 2018&nbsp\; &nbsp\; &nbsp\; &nbsp\
 ;Time:&nbsp\;12.30pm to 3pmLocation: Holy Trinity Church Hall\, 2 Pasco St
 reet\, Williamstown\n\nFamily friendly (face painting and kids activities)
 \nLunch provided by Asylum Seeker Resource Centre Catering (includes veget
 arian and vegan options)\nMultifaith musical performances\n\nPlaces are st
 rictly limited\, get your free tickets on Eventbrite.\nHere in Hobsons Bay
 \, we celebrate over 90 different faiths. The Hobsons Bay Interfaith Netwo
 rk is a gathering of many faith leaders within Hobsons Bay to promote unde
 rstanding of each other\, our faiths and traditions and increase acceptanc
 e of others.\nThis community initiative is supported by Hobsons Bay City C
 ouncil. https://faithvictoria.org.au/upcoming-events/event/1406-growing-to
 gether-spring-lunch-hobsons-bay-interfaith-network
DTSTART:20181014T123000Z
DTEND:20181014T150000Z
LOCATION:Holy Trinity Church Hall\, 2 Pasco Street\, Williamstown 3016 (2 P
 asco St\, Williamstown VIC 3016\, Australia)
SUMMARY:Growing Together Spring Lunch: Hobsons Bay Interfaith Network
URL:https://faithvictoria.org.au/upcoming-events/event/1406-growing-togethe
 r-spring-lunch-hobsons-bay-interfaith-network
END:VEVENT
END:VCALENDAR
